BEGIN:VCALENDAR
VERSION:2.0
PRODID:-//wp-events-plugin.com//7.2.3.1//EN
BEGIN:VEVENT
UID:209@jaredfranks.com
DTSTART;TZID=Europe/Amsterdam;VALUE=DATE:20260703
DTEND;TZID=Europe/Amsterdam;VALUE=DATE:20260706
DTSTAMP:20260227T062750Z
URL:https://www.jaredfranks.com/events/12793/
SUMMARY:Weekend Retreat in Amsterdam with Lisa and Jared
DESCRIPTION:Trust in Love \nWeekend Retreat in Amsterdam with Lisa and Jare
 d\nFriday July 3 – Sunday July 5\n\nWe are all challenged in our lives\,
  this is natural. But sometimes it feels like provocation comes from all s
 ides.\n\nBesides our personal problems\, extreme political leaders are cau
 sing war and devastation. Refugees are being turned away from safety\, ani
 mals and mother earth are suffering from the greed and extractions. Our tr
 ust in life can feel deeply damaged.\n\nWhat if we\, in the midst of this 
 fire\, meet as true friends and go beyond all concepts or experience and f
 ind what is unconditionally trustworthy\; what is always here. What if we 
 take a deep dive with Lisa &amp\; Jared and turn our lives right side up a
 nd Let Love Lead no matter what. We wonder\, what would that give you? Joi
 n us in the inspiring city of Amsterdam. \n\nMeeting Times\nFriday: 19:30
 pm\nSaturday: 10.00\, 13.00 \, 16:00\nSunday: 10.00 &amp\; 13.00 \n\nEach
  meeting is approx. 90 mins.\n\nNote on attendance: For the benefit of the
  group and the depth of the retreat\, full attendance is required. This me
 ans participants are asked to arrive on time\, remain for the entire retre
 at\, and attend all required sessions.\nVenue\nDe Roos – Filosofenkamer\
 nPieter Cornelisz Hooftstraat 183\, 1071 BW\nAmsterdam\, Netherlands\nTuit
 ion\nEarly Bird €485 – first 7 bookings\nRegular €525\nBooking\nUse 
 this payment link to book\n(The payment is collected by Samantha IJsbrandy
  on behalf of Lisa Schumacher and Jared Franks/ Satsang Amsterdam\, 3\, 4 
 and 5 July 2026).\n\nPlease add your email address where is says 'add a me
 ssage to your payment' - so we can send you payment confirmation and other
  important details.\n\nLocal Hosts\nSamantha IJsbrandy: samijsbrandy@gmail
 .com\nChristel Koningstein: christel.koningstein@live.nl\nMarja Harrijvan:
  marja@harrijvan.nl
ATTACH;FMTTYPE=image/jpeg:https://www.jaredfranks.com/wp-content/uploads/2
 026/02/Lisa-and-Jared_2026_small.jpg.png
CATEGORIES:Europe,Retreat
LOCATION:https://bunq.me/AmsterdamRetreatJuly2026
END:VEVENT
BEGIN:VTIMEZONE
TZID:Europe/Amsterdam
X-LIC-LOCATION:Europe/Amsterdam
BEGIN:DAYLIGHT
DTSTART:20260329T030000
TZOFFSETFROM:+0100
TZOFFSETTO:+0200
TZNAME:CEST
END:DAYLIGHT
END:VTIMEZONE
END:VCALENDAR