BEGIN:VCALENDAR
VERSION:2.0
PRODID:-//wp-events-plugin.com//7.2.3.1//EN
BEGIN:VEVENT
UID:201@jaredfranks.com
DTSTART;TZID=Australia/Sydney;VALUE=DATE:20260423
DTEND;TZID=Australia/Sydney;VALUE=DATE:20260428
DTSTAMP:20260106T102028Z
URL:https://www.jaredfranks.com/events/5-day-enneagram-retreat-with-jared/
SUMMARY:5-Day Enneagram Retreat with Jared
DESCRIPTION:The Enneagram of Liberation: 5-day Retreat\nWith Jared Franks\n
 \nApril 23 - 27\, 2026\n\nMore information coming soon
ATTACH;FMTTYPE=image/jpeg:https://www.jaredfranks.com/wp-content/uploads/2
 024/12/My-project-1-7-landscape-5ed2935c7da84bceff632e92b21e8ac4-hvjedit2w
 x06.png
CATEGORIES:Australia,Byron Bay,Enneagram
LOCATION:Lennox Head Cultural Centre - CWA Hall\, 1 Mackney Lane\, Lennox H
 ead\, 2478\, NSW\, Australia
X-APPLE-STRUCTURED-LOCATION;VALUE=URI;X-ADDRESS=1 Mackney Lane\, Lennox Hea
 d\, 2478\, NSW\, Australia;X-APPLE-RADIUS=100;X-TITLE=Lennox Head Cultural
  Centre - CWA Hall:geo:0,0
END:VEVENT
BEGIN:VTIMEZONE
TZID:Australia/Sydney
X-LIC-LOCATION:Australia/Sydney
BEGIN:STANDARD
DTSTART:20260405T020000
TZOFFSETFROM:+1100
TZOFFSETTO:+1000
TZNAME:AEST
END:STANDARD
END:VTIMEZONE
END:VCALENDAR