BEGIN:VCALENDAR
VERSION:2.0
PRODID:-//wp-events-plugin.com//7.2.3.1//EN
BEGIN:VEVENT
UID:32@jaredfranks.com
DTSTART;TZID=Australia/Sydney;VALUE=DATE:20251129
DTEND;TZID=Australia/Sydney;VALUE=DATE:20251209
DTSTAMP:20250524T023141Z
URL:https://www.jaredfranks.com/events/8-day-awakening-retreat-au-with-eli
 -jared-and-lisa/
SUMMARY:8 Day Awakening Retreat AU with Eli\, Jared and Lisa
DESCRIPTION:A chance to immerse yourself in profound retreat and explore th
 e depths of your true essence. Amidst the challenges of life\, love calls 
 for your wholehearted focus. Eli\, Jared\, and Lisa are here to support yo
 u in awakening to the enduring love that remains constant and unchanging.\
 n\n&nbsp\;\n\nIn this retreat you will:\n\n 	Meet in Satsang with Eli Jaxo
 n-Bear and receive his transmission and teaching of direct realization*\n 
 	Discover what it means to be a True Friend and embody this stance towards
  yourself and the world\n 	Discover your heart’s true desire and strengt
 hen your resolve\n 	See how you betray it through habitual movements of th
 e mind\n 	Uncover and resolve your traumatic wounds resourcefully\n 	Recei
 ve loving\, healing and clarifying support to discover your true nature\n\
 nThis retreat is led by Jared Franks and Lisa Schumacher with Eli Jaxon-Be
 ar zooming in for one meeting per day.\n\nThis retreat can be attended in-
 person or online via Zoom. Please let us know how you will be attending by
  putting a note in the notes section of your registration.\n\nLocation for
  Onsite Participants:\nWybalena Organic Farms\nhttps://www.wybalenaorganic
 farm.com.au/\n\nThis venue can host up to 25 participants to stay onsite.\
 n\nSchedule:\nTBD\n\nTo book your spot\, please click HERE.\n\n&nbsp\;\n\n
 &nbsp\;\n\n\nCancellation policy\nIf you need to cancel your registration\
 , please email us at info@leela.org\nIf you cancel more than 30 days befo
 re the retreat begins  your full payment minus $50.00 will be refunded. A
 fter that no refunds are given.\n\n\n\n\nThis course is equal to 20 CEUs (
 Continuing Education Units) for students applying for advanced certificati
 on or certification renewals.\n\n
ATTACH;FMTTYPE=image/jpeg:https://www.jaredfranks.com/wp-content/uploads/2
 024/04/Byron-Bay-Hinterland-Retreat-Venue.png
CATEGORIES:Australia,Leela
 School,Mindfulness,Online,Retreat,Satsang,Self-Inquiry
END:VEVENT
BEGIN:VTIMEZONE
TZID:Australia/Sydney
X-LIC-LOCATION:Australia/Sydney
BEGIN:DAYLIGHT
DTSTART:20251005T030000
TZOFFSETFROM:+1000
TZOFFSETTO:+1100
TZNAME:AEDT
END:DAYLIGHT
END:VTIMEZONE
END:VCALENDAR