BEGIN:VCALENDAR
VERSION:2.0
PRODID:-//wp-events-plugin.com//7.2.3.1//EN
BEGIN:VEVENT
UID:31@jaredfranks.com
DTSTART;TZID=Europe/Berlin;VALUE=DATE:20250701
DTEND;TZID=Europe/Berlin;VALUE=DATE:20250710
DTSTAMP:20250524T021410Z
URL:https://www.jaredfranks.com/events/8-day-awakening-retreat-eu-with-eli
 -jared-and-lisa-2-day-option-available/
SUMMARY:8 Day Awakening Retreat EU with Eli\, Jared and Lisa (2-day option 
 available)
DESCRIPTION:A time to go deeply into retreat\, and investigate the depth of
  your Self. With so many tests on the outside and the inside\, love demand
 s your undivided attention. Eli\, Jared\, and Lisa are here in support of 
 this realization of your Self\; love that does not come and go.\n\n&nbsp\;
 \n\n8-Day Awakening Retreat\n\n 	July 1-9 In person or online\n 	24 meetin
 gs with Eli\, Jared and Lisa over 8 days\n 	Profound set and setting for y
 our inquiry\n 	Deepen with a loving\, heart-based community\n 	Discover wh
 at you really want\n 	Ask all of your questions and receive full support\n
  	Extended time in retreat to integrate your discoveries\n\nPrice: 998 EUD
 \n\nTo book your spot on the 8-day retreat\, please click HERE.\n\n&nbsp\;
 \n\nRetreat Schedule\nTuesday July 1st: dinner 6pm and first meeting with 
 Eli at 8pm\nWednesday July 2nd - Tuesday July 8th: Meetings at 10:30am\, 4
 :30pm and 8:30pm\nWednesday July 9th: breakfast 8am\, meeting 10-11 am\, c
 leaning after before leaving.\n*Meetings are typically 90 mins. Times list
 ed are in CEST\n\nFor more information please click HERE.
ATTACH;FMTTYPE=image/jpeg:https://www.jaredfranks.com/wp-content/uploads/2
 024/01/lisa_jared_eli_bench-scaled.jpg
CATEGORIES:Europe,Leela
 School,Mindfulness,Online,Retreat,Satsang,Self-Inquiry
END:VEVENT
BEGIN:VTIMEZONE
TZID:Europe/Berlin
X-LIC-LOCATION:Europe/Berlin
BEGIN:DAYLIGHT
DTSTART:20250330T030000
TZOFFSETFROM:+0100
TZOFFSETTO:+0200
TZNAME:CEST
END:DAYLIGHT
END:VTIMEZONE
END:VCALENDAR