BEGIN:VCALENDAR
VERSION:2.0
PRODID:-//wp-events-plugin.com//7.2.3.1//EN
BEGIN:VEVENT
UID:1@jaredfranks.com
DTSTART:20240201T090000Z
DTEND:20240201T100000Z
DTSTAMP:20240129T133306Z
URL:https://www.jaredfranks.com/events/an-open-meeting-with-jared-and-lisa
 -in-the-blue-mountains-au-hybrid/
SUMMARY:An Open Meeting with Jared and Lisa in the Blue Mountains AU (Hybri
 d)
DESCRIPTION:An open meeting with Jared Franks and Lisa Schumacher in the Bl
 ue Mountains\, Australia.\n----\nVenue: KindleHill School Hall\, 8 Lake St
 .\, Wentworth Falls\, 2782 NSW Australia\nTime: Friday February 9th at 7pm
  AEDT\nThis meeting is available to attend in-person and online.\nOpen for
  all who would like to attend with a suggested donation of $20. Donations 
 can be made here. No registration necessary for in-person participants.\nR
 egistration is required for those attending online only. Please CLICK HERE
  to register for a Zoom link.\n&nbsp\;
ATTACH;FMTTYPE=image/jpeg:https://www.jaredfranks.com/wp-content/uploads/2
 024/01/lisa_jared.jpg
CATEGORIES:Open Meeting,Retreat,Satsang,Self-Inquiry
LOCATION:Private Residence\, 32 Glenayr Avenue\, North Bondi\, NSW\, 2026\,
  Australia
X-APPLE-STRUCTURED-LOCATION;VALUE=URI;X-ADDRESS=32 Glenayr Avenue\, North B
 ondi\, NSW\, 2026\, Australia;X-APPLE-RADIUS=100;X-TITLE=Private Residence
 :geo:0,0
END:VEVENT
END:VCALENDAR