BEGIN:VCALENDAR
VERSION:2.0
PRODID:-//wp-events-plugin.com//7.2.3.1//EN
BEGIN:VEVENT
UID:16@jaredfranks.com
DTSTART:20240828T190000Z
DTEND:20240828T203000Z
DTSTAMP:20240405T013814Z
URL:https://www.jaredfranks.com/events/an-open-meeting-with-jared-in-berli
 n/
SUMMARY:An Open Meeting with Jared in Berlin
DESCRIPTION:It’s possible to wake up from the illusion of separation\, an
 d discover fulfillment and love as the ground of Being\, deeper than any s
 tory.\nJared is a teacher and mentor of the Leela School of Awakening. His
  invitation is to stop\, and wake up from the trance of who you think you 
 are.\nAll are welcome to this meeting.\n\n\n\nLocation: \nBerliner Schule
  für Zen Shiatsu\nWittelsbacher Str. 16\n10707 Berlin\nwww.zen-shiatsu-sc
 hule.de\n\nOpen Meeting at 7pm\n\nOpen for all who would like to attend wi
 th a suggested donation of € 20. No payment necessary for those register
 ed for the retreat that follows.\n\nNo registration required. This is an i
 n-person meeting.\n\nThis event is the beginning of a 5-day retreat\, for 
 more information about the full retreat\, click here.\n\n\n
ATTACH;FMTTYPE=image/jpeg:https://www.jaredfranks.com/wp-content/uploads/2
 024/01/jaredtwo.jpg
CATEGORIES:Open Meeting,Satsang,Self-Inquiry
END:VEVENT
END:VCALENDAR