BEGIN:VCALENDAR
VERSION:2.0
PRODID:-//wp-events-plugin.com//7.2.3.1//EN
BEGIN:VEVENT
UID:21@jaredfranks.com
DTSTART;TZID=Australia/Sydney:20240608T170000
DTEND;TZID=Australia/Sydney:20240608T180000
DTSTAMP:20240422T072004Z
URL:https://www.jaredfranks.com/events/an-open-meeting-with-jared-in-lenno
 x-head/
SUMMARY:An Open Meeting with Jared in Lennox Head
DESCRIPTION:You are invited to this Open Meeting with Jared\, where you wil
 l receive direct support to turn your attention inwards to find who you ar
 e. With the possibility to ask questions directly to Jared\, and observe o
 thers sharing their questions and insights\, there is a deepening clarity 
 snd surrender into the heart when we gather in these meetings. It’s poss
 ible to wake up from the illusion of separation\, and discover fulfillment
  and love as the ground of Being\, deeper than any story.\nJared is a teac
 her and mentor of the Leela School of Awakening. His invitation is to stop
 \, and wake up from the trance of who you think you are.\n\nTime\n5pm AEST
 \n\nVenue\nLennox Head Cultural Center\n1 Mackney Ln\nLennox Head NSW 2478
 \n\nCost\nSuggested donation $20. All are welcome. No registration require
 d.
ATTACH;FMTTYPE=image/jpeg:https://www.jaredfranks.com/wp-content/uploads/2
 024/04/1528173324716.jpg
CATEGORIES:Australia,Open Meeting,Satsang,Self-Inquiry
END:VEVENT
BEGIN:VTIMEZONE
TZID:Australia/Sydney
X-LIC-LOCATION:Australia/Sydney
BEGIN:STANDARD
DTSTART:20240407T020000
TZOFFSETFROM:+1100
TZOFFSETTO:+1000
TZNAME:AEST
END:STANDARD
END:VTIMEZONE
END:VCALENDAR