BEGIN:VCALENDAR
VERSION:2.0
PRODID:-//wp-events-plugin.com//7.2.3.1//EN
BEGIN:VEVENT
UID:11@jaredfranks.com
DTSTART;TZID=Australia/Sydney:20240518T100000
DTEND;TZID=Australia/Sydney:20240518T100000
DTSTAMP:20240422T053716Z
URL:https://www.jaredfranks.com/events/an-open-meeting-with-jared-online/
SUMMARY:An Open Meeting with Jared (Online)
DESCRIPTION:You are invited to this Open Meeting with Jared\, where you wil
 l receive direct support to turn your attention inwards to find who you ar
 e. With the possibility to ask questions directly to Jared\, and observe o
 thers sharing their questions and insights\, there is a deepening clarity 
 snd surrender into the heart when we gather in these meetings.\nIt’s pos
 sible to wake up from the illusion of separation\, and discover fulfillmen
 t and love as the ground of Being\, deeper than any story.\nJared is a tea
 cher and mentor of the Leela School of Awakening. His invitation is to sto
 p\, and wake up from the trance of who you think you are.\nThis meeting wi
 ll take place on Zoom. Click HERE TO REGISTER for the Zoom link.\n\n\n\nT
 ime:\n\nSydney\, AEST Time:\nSaturday May 18th at 10am\n\nAuckland\, NZST 
 Time:\nSaturday May 18th at 12pm\n\nUS Pacific (PDT):\nFriday May 17th at 
 5pm\n\n\n
ATTACH;FMTTYPE=image/jpeg:https://www.jaredfranks.com/wp-content/uploads/2
 024/04/Jared_2023_small-732x1024-1.jpg
CATEGORIES:Online,Open Meeting,Satsang,Self-Inquiry
END:VEVENT
BEGIN:VTIMEZONE
TZID:Australia/Sydney
X-LIC-LOCATION:Australia/Sydney
BEGIN:STANDARD
DTSTART:20240407T020000
TZOFFSETFROM:+1100
TZOFFSETTO:+1000
TZNAME:AEST
END:STANDARD
END:VTIMEZONE
END:VCALENDAR