BEGIN:VCALENDAR
VERSION:2.0
PRODID:-//wp-events-plugin.com//7.2.3.1//EN
BEGIN:VEVENT
UID:26@jaredfranks.com
DTSTART;VALUE=DATE:20250228
DTEND;VALUE=DATE:20250303
DTSTAMP:20250122T235843Z
URL:https://www.jaredfranks.com/events/bali-what-is-always-here-inquiry-in
 to-the-depths-of-ourselves-register-your-interest/
SUMMARY:Bali | What is Always Here: Inquiry into the Depths of Ourselves
DESCRIPTION:"Everybody wants to be happy\, yet being truly fulfilled is so 
 rare. If you are reading this\, perhaps you are ready to look beyond your 
 mind\, and discover deep peace and causeless joy."\n\n~ Jared\n\n&nbsp\;\n
 \nWe will be meeting over 3 days to inquire into our own True Nature\, in 
 the natural and lush paradise of Ubud\, Bali!\n\nThis is the first time Ja
 red has been invited to Bali to hold a retreat\, and you are invited to be
  part of this brand-new offering.\n\nJust 10 spots are available for the f
 irst tier pricing of 395 AUD at our private venue. We will expand the offe
 ring if more people register interest\, and the price will go up.\n\nFor f
 urther details and/or to book your spot\, please click HERE.
ATTACH;FMTTYPE=image/jpeg:https://www.jaredfranks.com/wp-content/uploads/2
 024/12/1.png
CATEGORIES:Mindfulness,Retreat,Satsang,Self-Inquiry
END:VEVENT
END:VCALENDAR