BEGIN:VCALENDAR
VERSION:2.0
PRODID:-//wp-events-plugin.com//7.2.3.1//EN
BEGIN:VEVENT
UID:15@jaredfranks.com
DTSTART;TZID=Europe/Berlin:20240828T190000
DTEND;TZID=Europe/Berlin:20240901T203000
DTSTAMP:20240405T003016Z
URL:https://www.jaredfranks.com/events/being-who-you-are-retreat-with-jare
 d-in-berlin/
SUMMARY:Being Who You Are\; Retreat with Jared in Berlin
DESCRIPTION:\n\nDiscover the possibility to be free of your false identity\
 ; who you think you are and who you think you should be. When all stories 
 fall away\, what’s left is pure Being\, expressing itself as Love. Then 
 to live in this world of great insecurity\, you show up as love\, as light
 \, clarity and wisdom. Without effort\, naturally.\nIn this retreat we wil
 l inquire into the nature of thought\, emotions\, behavior and our identif
 ication to our bodies and our stories. Supported by Jared and the communit
 y to see through the veils of illusion\, to freshly discover what is real.
 \nJared is a teacher\, mentor and therapist from Australia. A director of 
 the Leela School of Awakening\, he devotes his life to the inherent peace 
 and love that is our true nature\, and offering support to all those ready
  to meet themselves freshly and honestly.\n\n\n\nTuition: € 465 Euros\, 
 ($504 USD)\n*If you prefer to pay in Euros\, contact leigh@leela.org\n\n\
 nRegister HERE.\n\n\nLocation: \nBerliner Schule für Zen Shiatsu\nWittel
 sbacher Str. 16\n10707 Berlin\nwww.zen-shiatsu-schule.de\n\nTimes:\nWednes
 day August 28th: Open Meeting at 7pm\nThursday\, Friday and Saturday: Thre
 e meetings per day at 10:30am\, 2:30pm and 5:30pm\nEach meeting above will
  last approximately 2 hours each\nSunday September 1st: Last meeting 10:30
 am – 1:30pm (please allow 3 hours)\n\n\n\nThese are in-person sessions a
 nd will not be shown online.
ATTACH;FMTTYPE=image/jpeg:https://www.jaredfranks.com/wp-content/uploads/2
 024/01/IMG_8851.png
CATEGORIES:Retreat,Satsang,Self-Inquiry
END:VEVENT
BEGIN:VTIMEZONE
TZID:Europe/Berlin
X-LIC-LOCATION:Europe/Berlin
BEGIN:DAYLIGHT
DTSTART:20240331T030000
TZOFFSETFROM:+0100
TZOFFSETTO:+0200
TZNAME:CEST
END:DAYLIGHT
END:VTIMEZONE
END:VCALENDAR