BEGIN:VCALENDAR
VERSION:2.0
PRODID:-//wp-events-plugin.com//7.2.3.1//EN
BEGIN:VEVENT
UID:12@jaredfranks.com
DTSTART;TZID=Australia/Sydney:20240705T180000
DTEND;TZID=Australia/Sydney:20240707T190000
DTSTAMP:20240422T072324Z
URL:https://www.jaredfranks.com/events/being-who-you-are-retreat-with-jare
 d-in-lennox-head/
SUMMARY:Being Who You Are\; Retreat with Jared in Lennox Head
DESCRIPTION:\n\nYou have the possibility to realize yourself\, beyond your 
 name\, your story\, your ideas\, and your past. To discover that who you a
 re is alive and fresh\, only ever in this moment\, not contained in any th
 ought.\n\n\n\n\nThis retreat container is for those who are seeking happin
 ess\, love\, fulfillment and freedom through self-inquiry and finally self
 -realisation. Here you are invited to retreat from the world of distractio
 ns\, to be fully supported to discover who you are in this moment. The pos
 sibility is to stay true to your discovery in the face of every test of th
 is great challenge of a human life.\n\nLennox Head is a beautiful environm
 ent for retreat\, with beaches\, walks and cafe’s nearby.\n\nRegister HE
 RE.\n\n\n\n\nTuition:\n*Early Bird Price $280 AUD –  until June 14*\nAf
 ter June 14\, $320 AUD\n\nPlease let us know in the notes of your order if
  you are attending in-person or online.  Online participants will receive
  Zoom Links beforehand.\n\n\n\n\n\nLocation: \nCWA Hall\nLennox Head Cult
 ural Centre\nLennox Head\, AU\n\nTimes:\n\nFriday July 5: One Meeting at 6
 pm\nSaturday July 6: Meetings at 10am\, 2pm and 5pm\nSunday July 7: Meetin
 gs at 10am and 2pm\n\nEach meeting will last approximately 90 minutes.\n\n
 \n\nLocal Hosts: Josh (josh@leela.org) and Kaya (kayalemaire@icloud.com)
ATTACH;FMTTYPE=image/jpeg:https://www.jaredfranks.com/wp-content/uploads/2
 024/04/79248615_1350015875159999_8681014634846617600_n.jpg
CATEGORIES:Australia,Byron Bay,Retreat,Satsang,Self-Inquiry
END:VEVENT
BEGIN:VTIMEZONE
TZID:Australia/Sydney
X-LIC-LOCATION:Australia/Sydney
BEGIN:STANDARD
DTSTART:20240407T020000
TZOFFSETFROM:+1100
TZOFFSETTO:+1000
TZNAME:AEST
END:STANDARD
END:VTIMEZONE
END:VCALENDAR