BEGIN:VCALENDAR
VERSION:2.0
PRODID:-//wp-events-plugin.com//7.2.3.1//EN
BEGIN:VEVENT
UID:135@jaredfranks.com
DTSTART:20250618T190000Z
DTEND:20250622T153000Z
DTSTAMP:20250210T013100Z
URL:https://www.jaredfranks.com/events/berlin-germany-5-day-retreat-what-i
 s-always-here-self-inquiry-into-the-depth-of-ourselves/
SUMMARY:Berlin\, Germany | 5-day Retreat: What is Always Here? Self-Inquiry
  into the Depth of Ourselves
DESCRIPTION:The world seems to be in chaos. Many of us are looking for some
 one to listen to their fears\, their anger\, their despair\, to hold and t
 o lead us. What if we were the ones meeting ourselves? Welcoming us fully 
 and with love just as we are with everything that is showing up?\n\nIn thi
 s retreat we find a space of open hearts\, the opportunity to open and to 
 welcome ourselves fully\, with love. We are invited to inquire into the de
 pth of who we are\, deeply supported by Jared’s untouched quiet and lovi
 ng presence. HERE we can discover\, what we are searching for\, is always 
 HERE: peace\, love\, freedom\, quietness and strength – our inherent nat
 ure. Being here we can meet the world naturally guided\, free\, strong and
  clear\, happy and fulfilled.\n\nTuition: € 485 Euros ($496 USD)\nEarly
  Bird Price until May 18\, 2025: € 450 Euros ($460 USD)\nThe website ta
 kes payments in USD. To pay in Euros please contact Leigh at leigh@leela.o
 rg\n\nFor more information and to register\, click HERE.\n\nLocation:\nUni
 versal-Tao-Germany-Zentrum\nKärntener Str. 20 / 1.OG\n10827 Berlin\nhttps
 ://www.universal-tao-germany.de/universal-tao/universal-tao-germany-e.v/\n
 \nMeeting Times:\nWednesday June 18th: Open Meeting at 7pm\nThursday June 
 19th – Saturday June 21st: Meetings at 10.30am\, 2.30pm and 6pm\nSunday 
 June 22nd: 10.30am – 1.30pm (two meetings in one)\n\nEach session lasts 
 1.5 to 2h\n\nLanguage: English\nThe group will support you if you need tra
 nslation.\n\nThese are in-person meetings and will not be shown online.\n\
 nRetreat Host: Petra Strube: petramaria.strube@posteo.de\n\n*Cancellatio
 n policy: If you need to cancel your registration\, please email us at in
 fo@leela.org. If you cancel more than 30 days before the retreat begins (f
 or in person events) and 14 days before (for online events) your full paym
 ent minus $50.00 will be refunded. After that no refunds are given.
ATTACH;FMTTYPE=image/jpeg:https://www.jaredfranks.com/wp-content/uploads/2
 024/01/jaredtwo.jpg
CATEGORIES:Europe,Leela School,Retreat,Satsang,Self-Inquiry
END:VEVENT
END:VCALENDAR