BEGIN:VCALENDAR
VERSION:2.0
PRODID:-//wp-events-plugin.com//7.2.3.1//EN
BEGIN:VEVENT
UID:134@jaredfranks.com
DTSTART:20250618T190000Z
DTEND:20250618T203000Z
DTSTAMP:20250210T012629Z
URL:https://www.jaredfranks.com/events/berlin-germany-open-meeting-with-ja
 red/
SUMMARY:Berlin\, Germany | Open Meeting with Jared
DESCRIPTION:Now more than ever we are challenged to be true to what we want
  for ourselves and the world. We can’t wait for the outside to change\, 
 we are being called to let go of what is not real\, and live directly from
  our natural Being\, silent and clear\, overflowing with love. It’s both
  effortless and requires your full attention.\n\nAll are welcome to this o
 pen inquiry meeting.\n\nLocation:\nUniversal-Tao-Germany-Zentrum\nKärnten
 er Str. 20 / 1.OG\n10827 Berlin\nhttps://www.universal-tao-germany.de/univ
 ersal-tao/universal-tao-germany-e.v/\n\nNo Registration necessary.\n\nTuit
 ion: € 20 Euros paid at the door (no extra cost for those attending the 
 entire retreat)\n\nLanguage: English\n\nRetreat Host: Petra Strube: petram
 aria.strube@posteo.de
ATTACH;FMTTYPE=image/jpeg:https://www.jaredfranks.com/wp-content/uploads/2
 025/02/Jared_Lennox_2024_small-17-scaled-1.jpg
CATEGORIES:Europe,Leela School,Open Meeting,Retreat,Satsang,Self-Inquiry
END:VEVENT
END:VCALENDAR