BEGIN:VCALENDAR
VERSION:2.0
PRODID:-//wp-events-plugin.com//7.2.3.1//EN
BEGIN:VEVENT
UID:202@jaredfranks.com
DTSTART;TZID=Europe/Berlin;VALUE=DATE:20260603
DTEND;TZID=Europe/Berlin;VALUE=DATE:20260608
DTSTAMP:20260220T044923Z
URL:https://www.jaredfranks.com/events/berlin-retreat-2026/
SUMMARY:You Are Free: 5-day Retreat with Jared in Berlin
DESCRIPTION:5-Day Retreat with Jared in Berlin\, Germany\nYou are Free\nJun
 e 3 – 7\, 2026\nWe are bound by the body\, society\, government\, money\
 , time and space. Our tendency is to fight these conditions\; ignore them\
 , become sad\, angry and afraid about them. Yet\, in the acceptance of the
 se limitations\, and opening to them\, we can stop\, open\, and look insid
 e to rediscover what is always free.\n\nYou can discover the truth of your
 self as unbounded\, timeless\, formless presence\; overflowing with love\,
  peace and joy. This is your natural self and is independent of thoughts\,
  emotions\, sensations and circumstances. Freedom is here\, and you can re
 alise this for yourself in any moment.\n\nJoin Jared in this 5 day immersi
 ve retreat\, to be supported in your self-realization.\nRetreat Details &a
 mp\; Bookings\nTuition: 485 € Euros ($575 USD)\nEarly Bird: 450 € Euro
 s ($535 USD) until May 3\, 2026\nThe Leela School website takes payments i
 n USD. To pay in Euros please contact Leigh at leigh@leela.org\nBook Your 
 Spot\nLocation:\nUniversal-Tao-Germany-Zentrum\nKärntener Str. 20 / 1.OG\
 n10827 Berlin\n\nMeeting Times in EU CEST Times:\nWednesday June 3rd: Open
  Meeting at 7pm\nThursday June 4th – Saturday June 6th: Meetings at 10.3
 0am\, 2.30pm and 5:30pm\nSunday June 7th: 10.30am – 1.30pm (two meetings
  in one)\n\nEach session lasts 1.5 to 2h\n\nLanguage: English\nThe group w
 ill support you if you need translation.
ATTACH;FMTTYPE=image/jpeg:https://www.jaredfranks.com/wp-content/uploads/2
 026/01/Jared-23.06.25-66.jpeg
CATEGORIES:Europe,Leela School,Retreat,Satsang,Self-Inquiry
LOCATION:https://www.leelaschool.org/product/you-are-free-retreat-with-jare
 d-in-berlin/
END:VEVENT
BEGIN:VTIMEZONE
TZID:Europe/Berlin
X-LIC-LOCATION:Europe/Berlin
BEGIN:DAYLIGHT
DTSTART:20260329T030000
TZOFFSETFROM:+0100
TZOFFSETTO:+0200
TZNAME:CEST
END:DAYLIGHT
END:VTIMEZONE
END:VCALENDAR