BEGIN:VCALENDAR
VERSION:2.0
PRODID:-//wp-events-plugin.com//7.2.3.1//EN
BEGIN:VEVENT
UID:138@jaredfranks.com
DTSTART;TZID=Europe/Vienna;VALUE=DATE:20250605
DTEND;TZID=Europe/Vienna;VALUE=DATE:20250609
DTSTAMP:20250524T021256Z
URL:https://www.jaredfranks.com/events/choose-freedom-retreat-with-jared-a
 nd-lisa-in-vienna-austria/
SUMMARY:Choose Freedom Retreat with Jared and Lisa in Vienna\, Austria
DESCRIPTION:Lisa and Jared are here to support you in experiencing your tru
 e self\, your inner freedom\, and the love that is always here.\n\nEveryth
 ing you want to ask and share on your journey within is welcome\, as we in
 quire together into the depth of who we really are\, and how it is possibl
 e to meet the intensity of today’s world from this way of being.\n\nWäh
 le die Freiheit\nLisa und Jared sind hier um Dich zu unterstützen\, Dein 
 wahres Selbst zu erfahren\, eine innere Freiheit und Liebe\, die immer da 
 ist.\nAlles was du auf Deinem inneren Weg fragen und teilen möchtest\nist
  hier willkommen. So können wir gemeinsam entdecken\,\nwer wir in Wahrhei
 t sind\, und wie es möglich ist\,\nder Intensität unserer aktuellen Welt
  aus diesem Sein heraus zu begegnen.\n\n\n\n\n\n 	10 meetings over 4 days 
 to\, rest and inquire together\n 	Connect with yourself more deeply\, and 
 live your life from that\n 	Get direct support from Lisa and Jared\, ask q
 uestions\, and give reports\n\nTuition: $468 USD (Early Bird $420 until 
 May 6th)\nEuro equivalent is € 440 (Early Bird € 395 until May 6th)\n
 \nRegister Here.\n\nVenue:\nthe Co-Housing Community B.R.O.T. Kalksburg\nP
 romenadeweg 5\n1230 Vienna\, Austria\n\nSchedule:\nThursday\, June 5th In
 troductory / open meeting 7:30pm\nFriday-Saturday\, Sunday June 6th-8th m
 eetings at 10:30am\, 3pm\, 6pm. Bonfire saturday night. Last meeting: Sund
 ay 6pm\n\nLanguage: English\n\nEach session lasts 1.5-2 hours\n\nThese are
  in-person sessions and will not be shown online.\n\n*Vegan food cooked by
  Lilli can be ordered. Information will be given after your registration.\
 n\nHave questions?\nLocation and accommodation: marlen.dittami@gmail.com\
 nGeneral: elisa@innersource.at +43 6504545046\n\nThe website of the comm
 unity:\n\nhttps://www.brot-kalksburg.at/\n\n\n\n\n
ATTACH;FMTTYPE=image/jpeg:https://www.jaredfranks.com/wp-content/uploads/2
 024/02/287523180_2062761147218798_3520034025056230474_n.jpg
CATEGORIES:Retreat,Satsang,Self-Inquiry
END:VEVENT
BEGIN:VTIMEZONE
TZID:Europe/Vienna
X-LIC-LOCATION:Europe/Vienna
BEGIN:DAYLIGHT
DTSTART:20250330T030000
TZOFFSETFROM:+0100
TZOFFSETTO:+0200
TZNAME:CEST
END:DAYLIGHT
END:VTIMEZONE
END:VCALENDAR