BEGIN:VCALENDAR
VERSION:2.0
PRODID:-//wp-events-plugin.com//7.2.3.1//EN
BEGIN:VEVENT
UID:3@jaredfranks.com
DTSTART;TZID=Australia/Sydney;VALUE=DATE:20240209
DTEND;TZID=Australia/Sydney;VALUE=DATE:20240212
DTSTAMP:20240208T001227Z
URL:https://www.jaredfranks.com/events/choose-love-a-weekend-retreat-with-
 jared-and-lisa-in-the-blue-mountains-au-hybrid/
SUMMARY:Choose Love: A Weekend Retreat with Jared and Lisa in the Blue Moun
 tains AU (Hybrid)
DESCRIPTION:CHOOSE LOVE | A WEEKEND RETREAT WITH JARED FRANKS AND LISA SCHU
 MACHER IN THE BLUE MOUNTAINS\; AUSTRALIA\nHYBRID RETREAT: AVAILABLE IN-PER
 SON AND ONLINE\n\nA time to go deeply into retreat\, and investigate the d
 epth of your Self. With so many tests on the outside and the inside\, love
  demands your undivided attention. Jared and Lisa are here in support of t
 his realization of your Self\; love that does not come and go.\n\nRegistra
 tion available here.\n\nTuition: $370 AUD\n\nVenue: KindleHill School Hall
 \, 8 Lake St.\, Wentworth Falls\, 2782 NSW Australia\n\nIf you are attendi
 ng online only\, you will be sent a zoom link beforehand.\n\nSession Times
  (All in AU AEDT Time):\nFriday Feb 9th: One Meeting at 7pm (Open Meeting)
 \nSaturday Feb 10th: Three Meetings\, 10am\, 2pm and 5pm\nSunday Feb 11th:
  Two Meetings\, 10am and 2pm\n\nEach session lasts 1.5-2 hours
ATTACH;FMTTYPE=image/jpeg:https://www.jaredfranks.com/wp-content/uploads/2
 024/01/lisa_jared.jpg
CATEGORIES:Blue Mountains,Retreat,Satsang,Self-Inquiry
LOCATION:Kindlehill School Hall\, 8 Lake Street\, Wentworth Falls\, NSW\, 2
 782\, Blue Mountains\, Australia
X-APPLE-STRUCTURED-LOCATION;VALUE=URI;X-ADDRESS=8 Lake Street\, Wentworth F
 alls\, NSW\, 2782\, Blue Mountains\, Australia;X-APPLE-RADIUS=100;X-TITLE=
 Kindlehill School Hall:geo:0,0
END:VEVENT
BEGIN:VTIMEZONE
TZID:Australia/Sydney
X-LIC-LOCATION:Australia/Sydney
BEGIN:DAYLIGHT
DTSTART:20231001T030000
TZOFFSETFROM:+1000
TZOFFSETTO:+1100
TZNAME:AEDT
END:DAYLIGHT
END:VTIMEZONE
END:VCALENDAR