BEGIN:VCALENDAR
VERSION:2.0
PRODID:-//wp-events-plugin.com//7.2.3.1//EN
BEGIN:VEVENT
UID:7@jaredfranks.com
DTSTART;VALUE=DATE:20240314
DTEND;VALUE=DATE:20240318
DTSTAMP:20240208T011254Z
URL:https://www.jaredfranks.com/events/choosing-love-a-3-day-retreat-with-
 jared-and-lisa-in-vienna/
SUMMARY:Choosing Love: A 3-Day Retreat with Jared and Lisa in Vienna
DESCRIPTION:CHOOSING LOVE: A 3-DAY RETREAT WITH JARED FRANKS AND LISA SCHUM
 ACHER IN VIENNA\n\nA time to go deeply into retreat\, and investigate the 
 depth of your Self. With so many tests on the outside and the inside\, lov
 e demands your undivided attention. Jared and Lisa are here in support of 
 this realization of your Self\; love that does not come and go.\n\nRegiste
 r here.\n\nTuition: $370 USD (Early Bird until February 25th\, $320 USD)\n
 Euro equivalent is € 340 or Early Bird € 295\nto pay in Euros please c
 ontact Leigh@leela.org\n\nVenue:\nThe Co-Housing Community B.R.O.T. Kalksb
 urg\nPromenadeweg 5\n1230 Vienna\, Austria\n\nSession Times (All in EU CET
  Time):\nThursday March 14th: Open Meeting at 7:30pm\nFriday March 15th 
 – Saturday March 16th: Meetings at 10:30am\, 3pm and 6pm\nSunday March 1
 7th: Last Meeting at 10am\n\nAll sessions will be in English and translate
 d into German.\n\nEach session lasts 1.5-2 hours\n\nThese are in-person se
 ssions and will not be shown online.\n\nThere will be provided snacks and 
 vegan food cooked by Lilli. Information on how to order will be given afte
 r your registration.\n\nQUESTIONS?: PLEASE CONTACT MARLEN.DITTAMI@GMAIL.CO
 M OR ELISA M. +43 6504545046\nThe website of the community: https://www.br
 ot-kalksburg.at/
ATTACH;FMTTYPE=image/jpeg:https://www.jaredfranks.com/wp-content/uploads/2
 024/01/leelaschool-small.jpg
CATEGORIES:Retreat,Satsang,Self-Inquiry
LOCATION:Co-Housing Community B.R.O.T. Kalksburg\, Promenadeweg 5\, Vienna\
 , 1230\, Austria
X-APPLE-STRUCTURED-LOCATION;VALUE=URI;X-ADDRESS=Promenadeweg 5\, Vienna\, 1
 230\, Austria;X-APPLE-RADIUS=100;X-TITLE=Co-Housing Community B.R.O.T. Kal
 ksburg:geo:0,0
END:VEVENT
END:VCALENDAR