BEGIN:VCALENDAR
VERSION:2.0
PRODID:-//wp-events-plugin.com//7.2.3.1//EN
BEGIN:VEVENT
UID:27@jaredfranks.com
DTSTART:20250328T000000Z
DTEND:20250401T000000Z
DTSTAMP:20241210T220536Z
URL:https://www.jaredfranks.com/events/enneagram-of-liberation-retreat-au/
SUMMARY:Enneagram of Liberation Retreat – AU
DESCRIPTION:Retreat and Deepen Over 5 Days with Heart-Centered Instructors 
 and Community in Australia.\n\nThis Retreat is taught by Jared in the seas
 ide town of Lennox Head (and Online).\n\nClear and loving support to go in
 wards to discover your true nature. By understanding your ego\, you can se
 e clearly 'Who You Are Not. You can realize directly that you are the sour
 ce of absolute freedom and fulfillment.\n\nRecognize the patterns of egoic
  fixation not only in yourself\, but also in your relationships. Begin to 
 forgive yourself\, your partners\, your parents\, and your children.\n\n&n
 bsp\;\n\n❤︎ Learn about all 9 types &amp\; subtypes\, and the genetic 
 drives that run them\n\n❤︎ Online or in-person retreat to deepen your 
 inquiry over 11 meetings with expert instructors\n\n❤︎ Get many resour
 ces to deepen your knowledge of the enneagram\, including recordings\, Eli
 's book\, and community meetings to support one another\n\n&nbsp\;\n\nTo s
 ave your spot for the Enneagram Retreat\, please click HERE.\n\nFor more i
 nformation about the Enneagram retreat\, please click HERE.\n\nLocation:\n
 \nLennox Head Cultural Center\n1 Mackney Ln\nLennox Head NSW 2478\n\nRetre
 at Schedule\nFriday 28 March - Tuesday 1 April\nTimes TBA\n\n*Each Meeting
  lasts approximately 90 minutes.
ATTACH;FMTTYPE=image/jpeg:https://www.jaredfranks.com/wp-content/uploads/2
 024/12/Jared_Lennox_2024_small-27-2-scaled.jpg
CATEGORIES:Australia,Leela
 School,Mindfulness,Online,Retreat,Satsang,Self-Inquiry
END:VEVENT
END:VCALENDAR