BEGIN:VCALENDAR
VERSION:2.0
PRODID:-//wp-events-plugin.com//7.2.3.1//EN
BEGIN:VEVENT
UID:136@jaredfranks.com
DTSTART:20250410T183000Z
DTEND:20250413T140000Z
DTSTAMP:20250216T210538Z
URL:https://www.jaredfranks.com/events/finding-refuge-in-your-self-retreat
 -with-jared-in-auckland/
SUMMARY:Finding Refuge in your Self Retreat with Jared in Auckland
DESCRIPTION:As we witness the crumbling and shifting of the world order\, w
 e can clearly see the instability of our political and social systems. The
  line between relative truth and lies has become blurred\, and it seems no
 where is immune to this instability. \nIt may seem unprecedented\, but it
  was clearly described by the Buddha two millennia ago. That all in this w
 orld is impermanent. Everything born will die. \nIt is logical that anxie
 ty and fear are the appropriate response to this inherent instability\, bu
 t ultimately this is not true. Deeper than our thoughts and opinions\, des
 ires and fears\, there is a field of empty\, aware\, love\, that is your n
 ature.\nYou are invited to find refuge here and now\, in your own true nat
 ure. To fall into yourself is to be yourself fully\, and end any idea of a
  separate self. Here you find what does not come and go. Here you find the
  ultimate stability in emptiness\, in love\, in your Self. \nTo register\
 , click HERE.\nTuition:  NZ$425 ($382 AUD)\nDates: April 10-13\, 2025\n
 Location: Vartamana Retreat Centre\, 1119 Scenic Drive\, Swanson\, Auckla
 nd\, New Zealand\nSession times:\nThursday 10th – 6.30pm\nFriday 11th 
 – 10am\, 2pm\, 5pm\nSaturday 12th – 10am\, 2pm\, 5pm\nSunday 13th – 
 10am\, 2pm\nLocal host Dianne dianne.rassie@gmail.com\n\n&nbsp\;\n\nCance
 llation policy\nIf you need to cancel your registration\, please email us 
 at info@leela.org\nIf you cancel more than 30 days before the retreat beg
 ins (for in person events) and 14 days before (for online events) your ful
 l payment minus $50.00 will be refunded. After that no refunds are given.
ATTACH;FMTTYPE=image/jpeg:https://www.jaredfranks.com/wp-content/uploads/2
 025/02/NZ.jpg
CATEGORIES:NZ,Retreat,Satsang,Self-Inquiry
END:VEVENT
END:VCALENDAR