BEGIN:VCALENDAR
VERSION:2.0
PRODID:-//wp-events-plugin.com//7.2.3.1//EN
BEGIN:VEVENT
UID:24@jaredfranks.com
DTSTART;TZID=Australia/Sydney:20250118T100000
DTEND;TZID=Australia/Sydney:20250118T143000
DTSTAMP:20241210T212134Z
URL:https://www.jaredfranks.com/events/free-introduction-to-the-leela-scho
 ol-therapist-training-program/
SUMMARY:Free Introduction to the Leela School Therapist Training Program
DESCRIPTION:Please join Eli\, Lisa and Jared for a free one-day program to 
 explore and experience the unique offerings of our school. Our training fo
 r therapists has a unique focus given to Eli by his teacher Papaji\, that 
 both client and therapist wake up.\n\nTo fulfill that mission\, we are her
 e to empower you to both realize the depth of yourself and give you the pr
 actical\, skillful means to be a true helping hand to others. We offer a u
 nique combination of self-inquiry coupled with cutting edge insights and t
 ools of nondual psychotherapy. Our goal is for all to wake up and pass on 
 the flame of freedom.\n\nIn this introductory full-day offering we will ex
 plain our program and give you a direct experience of what we offer.\n\nFo
 r the past decade\, we have been leading a unique Leela Therapist Certific
 ation training program with therapeutic skills combined with self-inquiry 
 that can lead to you having your own thriving practice.\n\n&nbsp\;\n\n"By 
 mapping the client’s reality and then altering it\, Jaxon-Bear shows us 
 how to then take away the map and reveal reality. This is a revolutionary 
 use of therapeutic techniques. We can at last transcend the ego\, the holy
  grail of therapy since Jung."\n\n~Dr. Murray Korngold | Founder of Los An
 geles Society of Clinical Psychologists\n\n&nbsp\;\n\nWe invite you to joi
 n us for this free one-day experience.\n\nFriday January 17th\; US Pacific
  Time:\nTwo Meetings at 3pm – 4:30pm and 6pm-7:30pm\n\nSaturday January 
 18th\; AU AEDT Time:\nTwo Meetings at 10am – 11:30am and 1pm – 2:30pm\
 n\nTo register and receive Zoom Link CLICK HERE\n\n&nbsp\;\n\nLeela School
  'Free Introduction to the Leela School Therapist Training Program' event 
 page can be found here.
ATTACH;FMTTYPE=image/jpeg:https://www.jaredfranks.com/wp-content/uploads/2
 024/03/eli_lisa_jared_3USA.jpg
CATEGORIES:Leela School,Mindfulness,Online,Self-Inquiry
END:VEVENT
BEGIN:VTIMEZONE
TZID:Australia/Sydney
X-LIC-LOCATION:Australia/Sydney
BEGIN:DAYLIGHT
DTSTART:20241006T030000
TZOFFSETFROM:+1000
TZOFFSETTO:+1100
TZNAME:AEDT
END:DAYLIGHT
END:VTIMEZONE
END:VCALENDAR