BEGIN:VCALENDAR
VERSION:2.0
PRODID:-//wp-events-plugin.com//7.2.3.1//EN
BEGIN:VEVENT
UID:137@jaredfranks.com
DTSTART;TZID=Pacific/Auckland:20250409T193000
DTEND;TZID=Pacific/Auckland:20250409T203000
DTSTAMP:20250403T072758Z
URL:https://www.jaredfranks.com/events/in-person-open-meeting-inquiry-with
 -jared-auckland/
SUMMARY:In-Person Open Meeting Inquiry with Jared (Auckland)
DESCRIPTION:It’s possible to wake up from the illusion of separation and 
 discover fulfillment and love as the ground of Being\, deeper than any sto
 ry. \n\nJared is a teacher and mentor of the Leela School of Awakening. Hi
 s invitation is to stop\, and wake up from the trance of who you think you
  are.\n\nYou will receive direct support to turn your attention inward to 
 find who you are. With the possibility to ask questions directly to Jared\
 , and observe others sharing their questions and insights\, there is a dee
 pening clarity and surrender into the heart when we gather in these meetin
 gs.\n\nAll are welcome to this meeting.\n\nPlease note this open meeting i
 s part of a 4-day retreat. Retreat information can be found here.\n\nLocat
 ion:\nThe School of Modern Meditation\n1/1 Howe St.\nFreeman’s Bay\nAuck
 land 1011\nNew Zealand\nhttps://wearesomm.co/\n\n\nNo Registration necessa
 ry.\n\nContribution: 20 NZD paid at the door (no extra cost for those att
 ending the entire retreat)\n\nLocal host Dianne dianne.rassie@gmail.com
ATTACH;FMTTYPE=image/jpeg:https://www.jaredfranks.com/wp-content/uploads/2
 024/04/330515525_545584267643181_268114148566655506_n.jpg
CATEGORIES:Open Meeting,Satsang,Self-Inquiry
END:VEVENT
BEGIN:VTIMEZONE
TZID:Pacific/Auckland
X-LIC-LOCATION:Pacific/Auckland
BEGIN:STANDARD
DTSTART:20250406T020000
TZOFFSETFROM:+1300
TZOFFSETTO:+1200
TZNAME:NZST
END:STANDARD
END:VTIMEZONE
END:VCALENDAR