BEGIN:VCALENDAR
VERSION:2.0
PRODID:-//wp-events-plugin.com//7.2.3.1//EN
BEGIN:VEVENT
UID:139@jaredfranks.com
DTSTART;TZID=Europe/Vienna:20250605T193000
DTEND;TZID=Europe/Vienna:20250605T210000
DTSTAMP:20250524T021223Z
URL:https://www.jaredfranks.com/events/in-person-open-meeting-with-jared-a
 nd-lisa-in-vienna-austria/
SUMMARY:In-person Open Meeting with Jared and Lisa in Vienna\, Austria
DESCRIPTION:It’s possible to wake up from the illusion of separation and 
 discover fulfillment and love as the ground of Being\, deeper than any sto
 ry. \n\nYou will receive direct support to turn your attention inward to f
 ind who you are. With the possibility to ask questions directly to Jared a
 nd Lisa\, and observe others sharing their questions and insights\, there 
 is a deepening clarity and surrender into the heart when we gather in thes
 e meetings.\n\nAll are welcome to this meeting.\n\nVenue:\nCo-Housing Comm
 unity B.R.O.T. Kalksburg\nPromenadeweg 5\n1230 Vienna\, Austria\n\nThis me
 eting is part of a longer retreat\, for more information please click here
 .\n\nThis meeting will be in English.\n\nNo registration necessary.\nCost 
 to attend the Open Meeting is  € 20 Euros paid at the door (no extra co
 st for those attending the entire retreat).
ATTACH;FMTTYPE=image/jpeg:https://www.jaredfranks.com/wp-content/uploads/2
 024/01/lisa_jared_outside.jpg
CATEGORIES:Mindfulness,Open Meeting,Satsang,Self-Inquiry
END:VEVENT
BEGIN:VTIMEZONE
TZID:Europe/Vienna
X-LIC-LOCATION:Europe/Vienna
BEGIN:DAYLIGHT
DTSTART:20250330T030000
TZOFFSETFROM:+0100
TZOFFSETTO:+0200
TZNAME:CEST
END:DAYLIGHT
END:VTIMEZONE
END:VCALENDAR