BEGIN:VCALENDAR
VERSION:2.0
PRODID:-//wp-events-plugin.com//7.2.3.1//EN
BEGIN:VEVENT
UID:25@jaredfranks.com
DTSTART;VALUE=DATE:20250131
DTEND;VALUE=DATE:20250203
DTSTAMP:20241210T213951Z
URL:https://www.jaredfranks.com/events/japan-3-day-retreat-discovering-who
 -you-are/
SUMMARY:Japan | 3-Day Retreat: Discovering Who You Are
DESCRIPTION:\nWe all think we know who we are.\n“I am my name\, my body\,
  my mind\, my past\, my work…”\nBut all this is called “ego” and i
 t is all in the mind.\nWhen the mind stops\, we can see what is here\, dee
 per than any thought\, before any thought arises.\nIt is the discovery of 
 presence\, peace\, silence and love.\nIt is the end of suffering.\nThis re
 treat is for those who wish to wake up from the trance of the ego and disc
 over who they really are.\n\n\n&nbsp\;\n\nDate and time:\nJanuary 31st to 
 February 2nd\, 2025 (2 nights\, 3 days)\n\nLocation:\nVenue: Hayama TPK\, 
 Miura District\, Kanagawa Prefecture\nDetails　https://www.tkp-resort.net
 /lectore/hayama/\n\nTuition:\n￥110\,000JYP (680USD)\n(including session 
 fee\, single room\, and 2 meals per day)\n\n&nbsp\;\n\nTo book your place 
 at this retreat\, please click HERE.\n\nTo book a room please contact loca
 l host Yoichiro Tsuji: +81 90 7170 8065\; email y.tsuji@anderson-tech.co.j
 p\n\n\nSchedule:\n\nFri\, January 31\, 2025\n\n 	TPK Hayama meeting time 1
 2:30pm in the lobby. (Room keys will be handed to each person when they me
 et)\n 	Check-in from 3pm\n 	Satsang (1) 1pm to 2:30pm\n 	Break\n 	Satsang 
 (2) 4pm to 5:30pm\n 	Dinner at TPK Hayama Dining\n 	Satsang (3) 7:30pm to 
 9pm\n\n Sat\, February 1\, 2025\n\n\n 	Breakfast 7:00-8:30\n 	Satsang (1)
  10:00-11:30\n 	Lunch on your own 11:30\n 	Satsang (2) 13:30-15:00\n 	Brea
 k\n 	Satsang (3) 16:30-18:00\n 	Dinner at TPK Hayama Dining\n\n Sun\, Feb
 ruary 2 2025\n\n 	Breakfast 7:00-8:30\n 	Satsang (1) 10:00-11:30\n 	Lunch 
 on your own 11:30\n 	Satsang (2) 13:30-15:00\n 	Break\n 	Satsang (3) 15:30
 -17:00\n\n*Please check out by 10:00am.*\n\nEach meeting will last approxi
 mately 90 minutes.\n\nCancellation policy\nIf you need to cancel your regi
 stration\, please email the Leela School at info@leela.org\nIf you cancel 
 more than 30 days before the retreat begins (for in person events) and 14 
 days before (for online events) your full payment minus $50.00 will be ref
 unded. After that no refunds are given.
ATTACH;FMTTYPE=image/jpeg:https://www.jaredfranks.com/wp-content/uploads/2
 024/04/1528173324716.jpg
CATEGORIES:Japan,Mindfulness,Retreat,Satsang,Self-Inquiry
END:VEVENT
END:VCALENDAR