BEGIN:VCALENDAR
VERSION:2.0
PRODID:-//wp-events-plugin.com//7.2.3.1//EN
BEGIN:VEVENT
UID:200@jaredfranks.com
DTSTART;TZID=Asia/Tokyo:20260226T110000
DTEND;TZID=Asia/Tokyo:20260226T123000
DTSTAMP:20260106T095358Z
URL:https://www.jaredfranks.com/events/japan-open-meeting/
SUMMARY:Open Meeting with Jared with Japanese Translation
DESCRIPTION:Open Meeting with Jared with Japanese Translation\nThursday Feb
 ruary 26th\, 2026  |  14:00 – 16:00\n"True happiness is possible in th
 is moment. \nIt is our nature to be happy\, free and in love.\nMost people
  are caught in thinking and doing\, fixing and trying."\nIn this open meet
 ing with Jared\, you will be guided to stop fixing\, stop trying\, stop be
 ing somebody\, and instead open to something deeper than any thought.\n\nW
 ho you are is beyond any thought\, and you can realize your true nature as
  conscious presence\, love and freedom itself.\nDetails\nNishiogi Cinema P
 reparation Room\nhttps://nishioginokoto.co.jp/\n3-6-2 Nishiogi-minami\, Su
 ginami-ku\, Tokyo 5-minute walk from Nishi-Ogikubo Station (South Exit)\nC
 ontribution\n¥5\,000 (tax included)\n\nCapped at 20 participants.\n\nThis
  is an Open Meeting with Jared that will be in English with Japanese trans
 lation.\nCLICK HERE TO REGISTER.\n\n&nbsp\;\n\n&nbsp\;
ATTACH;FMTTYPE=image/jpeg:https://www.jaredfranks.com/wp-content/uploads/2
 026/01/teaching-copy.jpg
CATEGORIES:Japan,Open Meeting,Satsang,Self-Inquiry
LOCATION:Nishiogi Cinema Preparation Room\, 3-6-2 Nishiogi-minami\, Suginam
 i-ku\, Tokyo\, Tokyo\, Japan
X-APPLE-STRUCTURED-LOCATION;VALUE=URI;X-ADDRESS=3-6-2 Nishiogi-minami\, Sug
 inami-ku\, Tokyo\, Tokyo\, Japan;X-APPLE-RADIUS=100;X-TITLE=Nishiogi Cinem
 a Preparation Room:geo:0,0
END:VEVENT
BEGIN:VTIMEZONE
TZID:Asia/Tokyo
X-LIC-LOCATION:Asia/Tokyo
BEGIN:STANDARD
DTSTART:20250226T110000
TZOFFSETFROM:+0900
TZOFFSETTO:+0900
TZNAME:JST
END:STANDARD
END:VTIMEZONE
END:VCALENDAR