BEGIN:VCALENDAR
VERSION:2.0
PRODID:-//wp-events-plugin.com//7.2.3.1//EN
BEGIN:VEVENT
UID:199@jaredfranks.com
DTSTART;TZID=Asia/Tokyo;VALUE=DATE:20260227
DTEND;TZID=Asia/Tokyo;VALUE=DATE:20260302
DTSTAMP:20260106T095541Z
URL:https://www.jaredfranks.com/events/japan-retreat/
SUMMARY:Japan | 3-Day Retreat: Who You Truly Are
DESCRIPTION:\nWe all believe that we know who we are\n“I am my name\, my 
 body\, my mind\, my past\, my job…”\nHowever\, all of these are called
  the “ego\,” and they exist only in the mind. When the mind becomes st
 ill\, we can see what is here before any thought arises— something deepe
 r than any thought.\nThis can be described as the discovery of peace and t
 he presence of silence.\nIt is also the end of suffering.\nThis retreat is
  for those who wish to awaken from the trance of the ego and discover thei
 r true self.\nWhy not step away from the busyness of daily life and discov
 er your own truth in a relaxed and supportive environment?\nLeave everyday
  life behind and experience a deepening into silence.\n\n\nDate and time\n
 Friday\, February 27 – Sunday\, March 1\, 2026 (2 nights\, 3 days)\nLoca
 tion\nVenue: Hayama TPK\, Miura District\, Kanagawa Prefecture\nDetails　
 https://www.tkp-resort.net/lectore/hayama/\nTuition\nRegular Price: ¥130\
 ,000 \nEarly Bird Price: ¥120\,000 (until January 15)\n\nIncludes single 
 private room accommodation for 2 nights / 3 days\, dinner and breakfast.\n
 Lunch is not included and will be paid individually.\n\nCapacity: 25 peopl
 e\n\nTo book a room please submit the application form here &gt\; &gt\;\nL
 ocal host Yoichiro Tsuji email for questions:  y.tsuji@anderson-tech.co.j
 p\n\nOnce again\, I was able to spend a deeply healing and relaxed time in
  a very calm and gentle space. As soon as I sat in front of Jared\, a powe
 rful inner sensation began to move\, and tears naturally flowed from my ey
 es. It felt as if the fear inside me was gently invited to come out. On th
 e final day\, I felt a vast\, unconditional love that allows all my emotio
 ns and thoughts to exist as they are— not as something special\, but as 
 something always close and present. I also received many insights and heal
 ing from everyone’s sharing\, and even now\, I continue to feel held by 
 a great sense of kindness. — T.H.\n\n  \n\nSchedule:\n\n\n\n\nDay 1\n\n\
 n\n\n12:30 Arrival / Check-in\n13:00 Session 1 (90 minutes)\n16:00 Session
  2 (90 minutes)\nDinner Free time after dinner\n\n\n\n\n\n\n\n\n\n\n\nDay 
 2\n\n\n\n\nBreakfast\n10:00 Session 3 (90 minutes)\n11:30 Lunch break\n13:
 30 Session 4 (90 minutes)\n16:30 Session 5 (90 minutes)\nDinner Free time 
 after dinner\n\n\n\n\n\n\n\n\n\n\n\nDay 3\n\n\n\n\nBreakfast\n10:00 Sessio
 n 5 (90 minutes)\n11:30 Lunch break\n13:30 Session 6 (90 minutes)\n15:30 C
 losing (approx.)\n\n\n\n\n\n\nEach meeting will last approximately 90 minu
 tes.\n\nCancellation policy\n■ Please complete payment within one week a
 fter your registration is confirmed.\n■ Cancellations made on or after J
 anuary 26 will incur a 100% cancellation fee.\nCancellations made before t
 hat date will incur a 50% cancellation fee.\n■ If payment is not confirm
 ed by the deadline\, the registration will be considered canceled.\nRefund
 s are not available after the retreat has begun.
ATTACH;FMTTYPE=image/jpeg:https://www.jaredfranks.com/wp-content/uploads/2
 026/01/group_small-1.jpg
CATEGORIES:Japan,Retreat,Satsang
LOCATION:https://c9l31.hp.peraichi.com
END:VEVENT
BEGIN:VTIMEZONE
TZID:Asia/Tokyo
X-LIC-LOCATION:Asia/Tokyo
BEGIN:STANDARD
DTSTART:20250227T000000
TZOFFSETFROM:+0900
TZOFFSETTO:+0900
TZNAME:JST
END:STANDARD
END:VTIMEZONE
END:VCALENDAR