BEGIN:VCALENDAR
VERSION:2.0
PRODID:-//wp-events-plugin.com//7.2.3.1//EN
BEGIN:VEVENT
UID:143@jaredfranks.com
DTSTART;TZID=Australia/Sydney;VALUE=DATE:20251031
DTEND;TZID=Australia/Sydney;VALUE=DATE:20251103
DTSTAMP:20250914T142052Z
URL:https://www.jaredfranks.com/events/living-fully-weekend-retreat-in-tas
 mania/
SUMMARY:Living Fully: Weekend Retreat in Tasmania
DESCRIPTION:Living Fully: Weekend Retreat in Tasmania\nIntimate Weekend Ret
 reat with Jared at a private farm residence in Tasmania\nOctober 31st - No
 vember 2nd\; About 1hr drive from Launceston airport\nSave Your Spot at th
 e Retreat\n\n&nbsp\;\n\n  \nWhat does it mean to Live Fully?\nThe challeng
 e to live fully is not a casual thing. It is our myriad fears that seeming
 ly stop us from fully flowing in this moment\, meeting it nakedly and vuln
 erably\, and acting from our natural expression. Instead we hold back\, li
 ving in our heads\, doubting and judging\, hiding and acting on anger\, fe
 ar and unworthiness.\n\nAll these feelings and stories that cloud our full
  living of life are connected to one thing - our identities. Who we think 
 we are. “I” becomes a membrane between our true Self and this moment.\
 n\nYou are invited to investigate this core belief in who you are\, and se
 e for yourself it’s a hungry ghost\, a mind projection that does not act
 ually exist!\n\nWhen you see through your identity as a somebody\, you dis
 cover your natural self\, always here\, shining in love and presence.\n\nT
 hen action come from your natural self without any holding back\, without 
 doubt\, blame\, victimhood. You simply be as you are\, meeting this moment
  openly and fully\, and participating with joy and happiness.\nRetreat wit
 h Jared: What to Expect\n \nThis retreat will run over 3 days\, with a mix
  of group satsang and personal break time each day. This is a space for de
 ep rest\, honest self-inquiry\, and heartfelt connection.\nDaily Rhythm\nY
 ou can expect one to three sessions per day\, held in the morning and afte
 rnoon. Each session begins with a few minutes of silence.\n\n\n 	Day one (
 open meeting): Friday Oct 31 -- meeting at 6pm\n 	Day two: Saturday Nov 1s
 t -- 3 meetings\n 	Day three: Sunday Nov 2nd -- 2 meetings\n\nDuring the s
 essions\, you’re welcome to raise your hand to ask a question\, share a 
 report\, or just sit and be present. Everything unfolds naturally and at y
 our own pace.\nWhat to Wear\nYou can wear any clothing you feel comfortabl
 e in.\nWhat to Bring\n\n\n 	\nA water bottle\n\n 	\nA journal or notebook 
 if you like to take notes\n\n 	\nAn extra cushion or back support if neede
 d (chairs and basic cushions are provided)\n\n\nDuring Breaks\nBreaks are 
 yours to enjoy however you wish. Spend time in nature\, rest\, or connect 
 with others in quiet conversation.The location of our retreat is a private
  residence on a gorgeous farm. You will have the chance to go on walks in 
 nature and relax in whatever way suits you.\nTeas and coffees are provided
  in the kitchen area\, and we will have filtered drinking water.\n\nAccomm
 odation Nearby\nHere are a few suggestions for accommodation within a 15 -
  30 minute radius of the retreat:\n\n 	\n\n 	badgersviewfarmstay.com.au\n 
 	23rowsvineyard.com.au\n 	The Studio on Albert\n 	Grand Ole Topiary cottag
 e Railton\n 	Manna Hill Farm Cottages\n 	Lucinda B&amp\;B Latrobe\n 	Latro
 be Mersey River Caravan Park\n\n\n\n\n\nSave Your Spot at the Retreat\n\nT
 uition for the Weekend Retreat is 450AUD \; get in touch if you need assis
 tance.\n\n
ATTACH;FMTTYPE=image/jpeg:https://www.jaredfranks.com/wp-content/uploads/2
 025/07/Tassie-Farm-4-scaled.png
CATEGORIES:Australia,Retreat
LOCATION:Private Residence in Tasmania\, Address provided upon registration
 \, Tasmania\, Australia
X-APPLE-STRUCTURED-LOCATION;VALUE=URI;X-ADDRESS=Address provided upon regis
 tration\, Tasmania\, Australia;X-APPLE-RADIUS=100;X-TITLE=Private Residenc
 e in Tasmania:geo:0,0
END:VEVENT
BEGIN:VTIMEZONE
TZID:Australia/Sydney
X-LIC-LOCATION:Australia/Sydney
BEGIN:DAYLIGHT
DTSTART:20251005T030000
TZOFFSETFROM:+1000
TZOFFSETTO:+1100
TZNAME:AEDT
END:DAYLIGHT
END:VTIMEZONE
END:VCALENDAR