BEGIN:VCALENDAR
VERSION:2.0
PRODID:-//wp-events-plugin.com//7.2.3.1//EN
BEGIN:VEVENT
UID:205@jaredfranks.com
DTSTART;TZID=Australia/Sydney:20260430T180000
DTEND;TZID=Australia/Sydney:20260430T193000
DTSTAMP:20260128T220832Z
URL:https://www.jaredfranks.com/events/monthly-online-inquiry-meetings-wit
 h-jared-10/
SUMMARY:Monthly Online Inquiry Meetings with Jared
DESCRIPTION:Welcome to your Online Inquiry Meetings with Jared\nSubscribe f
 or Access - just $8 /month\nIt’s possible to wake up from the illusion o
 f separation and discover fulfilment and love as the ground of Being\, dee
 per than any story.\n\nThis is not about becoming an enlightened somebody\
 , but rather realising what you have always been\; infinite emptiness\, sp
 acious\, consciousness\, alive with love and radiating presence. The Unive
 rse aware of itself\, beyond form\, beyond time.\n\nJared is invited to te
 ach at retreats around the world by loving community\, teaches and mentors
  students at the Leela School of Awakening\, and offers his time at these 
 online meetings throughout the year.\n\nHis invitation is to stop\, and wa
 ke up from the trance of who you think you are.\n\nYou will receive direct
  support to turn your attention inward to find out who you are. With the p
 ossibility to ask questions directly to Jared\, and observe others sharing
  their questions and insights\, you will see yourself reflected and see cl
 earer through the illusions of the mind\, to the silent reality of Being.\
 n\nAll are welcome to these meetings.\n\nThis is an online monthly inquiry
  meeting series with Jared Franks. You can subscribe to access the monthl
 y meetings for just $8 per month.\n\nAs a subscriber you get access to:\n\
 n✓ the monthly connection with Jared\n\n✓ coupon codes to share with f
 riends/family to come for free\n\n✓ plus all meeting recordings to rewat
 ch as you like\n\nEach month we will email the Zoom link for the Online In
 quiry Meeting.\nPlease and a comfortable and quiet space where you can fee
 l free to ask Jared your questions or share with the group.\n\nThank you f
 or your commitment to your Awakening and the Awakening of all Being.\n\n  
  
ATTACH;FMTTYPE=image/jpeg:https://www.jaredfranks.com/wp-content/uploads/2
 025/01/2.png
CATEGORIES:Online,Open Meeting,Satsang,Self-Inquiry
LOCATION:https://buy.stripe.com/28EcN5bcPgEZfBt5AxeQM00
END:VEVENT
BEGIN:VTIMEZONE
TZID:Australia/Sydney
X-LIC-LOCATION:Australia/Sydney
BEGIN:STANDARD
DTSTART:20260405T020000
TZOFFSETFROM:+1100
TZOFFSETTO:+1000
TZNAME:AEST
END:STANDARD
END:VTIMEZONE
END:VCALENDAR