BEGIN:VCALENDAR
VERSION:2.0
PRODID:-//wp-events-plugin.com//7.2.3.1//EN
BEGIN:VEVENT
UID:125@jaredfranks.com
DTSTART;TZID=Australia/Sydney:20250516T190000
DTEND;TZID=Australia/Sydney:20250516T203000
DTSTAMP:20250413T032458Z
URL:https://www.jaredfranks.com/events/monthly-online-inquiry-meetings-wit
 h-jared-2/
SUMMARY:In-Person or Online Open Meeting with Jared in the Blue Mountains
DESCRIPTION:Online or In-Person Open Inquiry Meeting for All - Blue Mountai
 ns\nIt’s possible to wake up from the illusion of separation and discove
 r fulfillment and love as the ground of Being\, deeper than any story. \n\
 nJared is a teacher and mentor of the Leela School of Awakening. His invit
 ation is to stop\, and wake up from the trance of who you think you are.\n
 \nYou will receive direct support to turn your attention inward to find wh
 o you are. With the possibility to ask questions directly to Jared\, and o
 bserve others sharing their questions and insights\, there is a deepening 
 clarity and surrender into the heart when we gather in these meetings.\n\n
 All are welcome to these meetings.\n\nThis is an online monthly open inqui
 ry meeting series with Jared. There is a suggested donation of $20 and you
  can use this link for a simple contribution: https://paypal.me/jaredfrank
 slove\nDetails for the Meeting:\n\n\n\nDate &amp\; Time\nMay 16th at 7pm A
 EST\n\n\nVenue\nKindleHill School Hall\,  8 Lake St.\,\nWentworth Falls\,
  2782 NSW Australia\n\n\nContribution\nSuggested donation $20. All are wel
 come. No registration required.\n\nOnline Registration Link &gt\;&gt\; Go 
 to Zoom\n\n&nbsp\;\n\nThank you for being committed to who you are.
ATTACH;FMTTYPE=image/jpeg:https://www.jaredfranks.com/wp-content/uploads/2
 025/04/DSC06288-scaled.jpg
CATEGORIES:Australia,Blue Mountains,Online,Open
 Meeting,Satsang,Self-Inquiry
LOCATION:https://us02web.zoom.us/webinar/register/WN_yVWqXIkbQvWkd-5VaUU5mg
END:VEVENT
BEGIN:VTIMEZONE
TZID:Australia/Sydney
X-LIC-LOCATION:Australia/Sydney
BEGIN:STANDARD
DTSTART:20250406T020000
TZOFFSETFROM:+1100
TZOFFSETTO:+1000
TZNAME:AEST
END:STANDARD
END:VTIMEZONE
END:VCALENDAR