BEGIN:VCALENDAR
VERSION:2.0
PRODID:-//wp-events-plugin.com//7.2.3.1//EN
BEGIN:VEVENT
UID:131@jaredfranks.com
DTSTART;TZID=Australia/Sydney:20251016T100000
DTEND;TZID=Australia/Sydney:20251016T113000
DTSTAMP:20251007T040519Z
URL:https://www.jaredfranks.com/events/monthly-online-inquiry-meetings-wit
 h-jared-8/
SUMMARY:North America: Online Inquiry Meetings with Jared
DESCRIPTION:Time Change: An Online Meeting for our North American Community
  🤍\nDate and Time: October 15th at 5pm Pacific Time / 8pm Eastern Time\
 nAustralia: Oct 16th at 11am AEDT\nOnline Registration Link &gt\;&gt\; Go 
 to Zoom\n\nWhy We Are Here\nIt’s possible to wake up from the illusion o
 f separation and discover fulfillment and love as the ground of Being\, de
 eper than any story. \n\nJared is a teacher and mentor of students around 
 the world who want to be happy and free. His invitation is to Stop and wak
 e up from the trance of who you think you are.\n\nYou will receive direct 
 support to turn your attention inward to find who you are. With the possib
 ility to ask questions directly to Jared\, and observe others sharing thei
 r questions and insights\, there is a deepening clarity and surrender into
  the heart when we gather in these meetings.\n\nAll are welcome to these m
 eetings.\n\nThank you for being committed to who you are.
ATTACH;FMTTYPE=image/jpeg:https://www.jaredfranks.com/wp-content/uploads/2
 024/12/Jared_Lennox_2024_small-27-1-scaled.jpg
CATEGORIES:Online,Open Meeting,Satsang,Self-Inquiry
END:VEVENT
BEGIN:VTIMEZONE
TZID:Australia/Sydney
X-LIC-LOCATION:Australia/Sydney
BEGIN:DAYLIGHT
DTSTART:20251005T030000
TZOFFSETFROM:+1000
TZOFFSETTO:+1100
TZNAME:AEDT
END:DAYLIGHT
END:VTIMEZONE
END:VCALENDAR