BEGIN:VCALENDAR
VERSION:2.0
PRODID:-//wp-events-plugin.com//7.2.3.1//EN
BEGIN:VEVENT
UID:124@jaredfranks.com
DTSTART;TZID=Australia/Sydney:20250403T180000
DTEND;TZID=Australia/Sydney:20250403T193000
DTSTAMP:20250122T235547Z
URL:https://www.jaredfranks.com/events/monthly-online-inquiry-meetings-wit
 h-jared/
SUMMARY:Monthly Online Inquiry Meetings with Jared
DESCRIPTION:It’s possible to wake up from the illusion of separation and 
 discover fulfillment and love as the ground of Being\, deeper than any sto
 ry. \n\nJared is a teacher and mentor of the Leela School of Awakening. Hi
 s invitation is to stop\, and wake up from the trance of who you think you
  are.\n\nYou will receive direct support to turn your attention inward to 
 find who you are. With the possibility to ask questions directly to Jared\
 , and observe others sharing their questions and insights\, there is a dee
 pening clarity and surrender into the heart when we gather in these meetin
 gs.\n\nAll are welcome to these meetings.\n\nThis is an online monthly ope
 n meeting series with Jared. There is a suggested donation of $20 and you 
 can use this link for a simple contribution: https://paypal.me/jaredfranks
 love\n\nDate:\n\nApril 3rd at 6pm AEDT\n\nOnline Registration Link &gt\;&g
 t\; Go to Zoom\n\n&nbsp\;\n\nThank you for being committed to who you are.
ATTACH;FMTTYPE=image/jpeg:https://www.jaredfranks.com/wp-content/uploads/2
 025/01/2.png
CATEGORIES:Online,Open Meeting,Satsang,Self-Inquiry
END:VEVENT
BEGIN:VTIMEZONE
TZID:Australia/Sydney
X-LIC-LOCATION:Australia/Sydney
BEGIN:DAYLIGHT
DTSTART:20241006T030000
TZOFFSETFROM:+1000
TZOFFSETTO:+1100
TZNAME:AEDT
END:DAYLIGHT
END:VTIMEZONE
END:VCALENDAR