BEGIN:VCALENDAR
VERSION:2.0
PRODID:-//wp-events-plugin.com//7.2.3.1//EN
BEGIN:VEVENT
UID:133@jaredfranks.com
DTSTART;TZID=Europe/Berlin:20250614T100000
DTEND;TZID=Europe/Berlin:20250615T190000
DTSTAMP:20250524T021340Z
URL:https://www.jaredfranks.com/events/munich-germany-weekend-retreat-what
 -is-always-here-self-inquiry-into-the-depth-of-ourselves/
SUMMARY:Munich\, Germany | Weekend Retreat: What is Always Here? Self-Inqui
 ry into the Depth of Ourselves
DESCRIPTION:The world seems to be in chaos. Many of us are looking for some
 one to listen to their fears\, their anger\, their despair\, to hold and t
 o lead us. What if we were the ones meeting ourselves? Welcoming us fully 
 and with love just as we are with everything that is showing up?\n\nIn thi
 s retreat we find a space of open hearts\, the opportunity to open and to 
 welcome ourselves fully\, with love. We are invited to inquire into the de
 pth of who we are\, deeply supported by Jared’s untouched quiet and lovi
 ng presence. HERE we can discover\, what we are searching for\, is always 
 HERE: peace\, love\, freedom\, quietness and strength – our inherent nat
 ure. Being here we can meet the world naturally guided\, free\, strong and
  clear\, happy and fulfilled.\n\nFor more information and to register\, cl
 ick HERE.\n\nTuition: € 265 Euros ($271 USD)\nEarly Bird Price until May
  14\, 2025: € 230 Euros ($235 USD)\nThe website takes payments in USD. 
 To pay in Euros please contact Leigh at leigh@leela.org\n\nLocation:\nPrax
 is Sophien\nSophienstrasse 1\nSeminarraum\, 1. Stock\n80333 München\n\nMe
 eting Times:\n10am\, 2pm and 5:30pm both days\nEach Session lasts 1.5 to 2
 h\n\nLanguage: English\nThe group will support you if you need translation
 .\n\nThese are in-person meetings and will not be shown online.\n\nRetreat
  Host: Morena Kops\, morena.kops@outlook.de\n\n*Cancellation policy: If 
 you need to cancel your registration\, please email us at info@leela.org.
  If you cancel more than 30 days before the retreat begins (for in person 
 events) and 14 days before (for online events) your full payment minus $50
 .00 will be refunded. After that no refunds are given.
ATTACH;FMTTYPE=image/jpeg:https://www.jaredfranks.com/wp-content/uploads/2
 024/01/1.5-session-scaled.jpg
CATEGORIES:Europe,Leela School,Retreat,Satsang,Self-Inquiry
END:VEVENT
BEGIN:VTIMEZONE
TZID:Europe/Berlin
X-LIC-LOCATION:Europe/Berlin
BEGIN:DAYLIGHT
DTSTART:20250330T030000
TZOFFSETFROM:+0100
TZOFFSETTO:+0200
TZNAME:CEST
END:DAYLIGHT
END:VTIMEZONE
END:VCALENDAR