BEGIN:VCALENDAR
VERSION:2.0
PRODID:-//wp-events-plugin.com//7.2.3.1//EN
BEGIN:VEVENT
UID:123@jaredfranks.com
DTSTART;TZID=Australia/Sydney:20250306T180000
DTEND;TZID=Australia/Sydney:20250306T193000
DTSTAMP:20250123T005224Z
URL:https://www.jaredfranks.com/events/online-enneagram-discovery-meeting-
 with-jared/
SUMMARY:Online Enneagram Discovery Meeting with Jared
DESCRIPTION:Discover the power of the Enneagram as a tool to support your a
 wakening.\n\n\nDiscover the Wisdom of the Enneagram - a Mirror to See Your
  Patterns Clearly\n\n\n\n\n\n\nIf you've felt stuck in repetitive cycles\,
  longing for clarity and liberation\, this free webinar is your gateway. S
 tep into a space of clarity and support with Jared Franks\, who will share
  this sacred use the Enneagram—a profound tool for awakening.\n\nJoin Ja
 red for this Free session on March 6th\, 6pm AEDT / 8am CET\n\n✨ A Radic
 al Approach – Go beyond personality typing into deep self-exploration\n\
 n✨ Begin to Understand Your Type – Deep subconscious patterns of thoug
 ht\, emotion\, and behaviour\n\n✨ Live Teaching + Q&amp\;A – Ask quest
 ions and interact with Jared Franks\, teacher with over 10 years experienc
 e\n\n\n\n\n\n\n\n\n🌟 This webinar previews the 5-Day Enneagram Retreat 
 in Australia\, offering an experiential opportunity for deep exploration.\
 n\nDate:\n\nMarch 6th at 6pm AEDT.\n\nOnline Registration Link &gt\;&gt\; 
 Go to Zoom\n\n&nbsp\;\n\n\n\n\nIt’s possible to wake up from the illusio
 n of separation and discover fulfillment and love as the ground of Being\,
  deeper than any story.\n\nJared is a teacher and mentor of the Leela Scho
 ol of Awakening. His invitation is to stop\, and wake up from the trance o
 f who you think you are.\n\nYou will receive direct support to turn your a
 ttention inward to find who you are. With the possibility to ask questions
  directly to Jared\, and observe others sharing their questions and insigh
 ts\, there is a deepening clarity and surrender into the heart when we gat
 her in these meetings.\n\nAll are welcome to this meeting.\n\nDate:\n\nMar
 ch 6th at 6pm AEDT.\n\nOnline Registration Link &gt\;&gt\; Go to Zoom\n\n&
 nbsp\;\n\nThank you for being committed to who you are.
ATTACH;FMTTYPE=image/jpeg:https://www.jaredfranks.com/wp-content/uploads/2
 024/12/My-project-1-7-landscape-5ed2935c7da84bceff632e92b21e8ac4-hvjedit2w
 x06.png
CATEGORIES:Online,Open Meeting,Satsang,Self-Inquiry
END:VEVENT
BEGIN:VTIMEZONE
TZID:Australia/Sydney
X-LIC-LOCATION:Australia/Sydney
BEGIN:DAYLIGHT
DTSTART:20241006T030000
TZOFFSETFROM:+1000
TZOFFSETTO:+1100
TZNAME:AEDT
END:DAYLIGHT
END:VTIMEZONE
END:VCALENDAR