BEGIN:VCALENDAR
VERSION:2.0
PRODID:-//wp-events-plugin.com//7.2.3.1//EN
BEGIN:VEVENT
UID:144@jaredfranks.com
DTSTART;TZID=Australia/Sydney:20251031T180000
DTEND;TZID=Australia/Sydney:20251031T193000
DTSTAMP:20250715T060227Z
URL:https://www.jaredfranks.com/events/open-inquiry-meeting-prelude-to-liv
 ing-fully-retreat-in-tasmania/
SUMMARY:Open Inquiry Meeting (Prelude to Living Fully Retreat in Tasmania)
DESCRIPTION:Open Meeting to Begin our Weekend Retreat: Living Fully\nIntima
 te Inquiry Meeting with Jared at a private residence - Nik's farm in Tasma
 nia\nFriday October 31st\, 6-7:30pm\, All Are Welcome to this Evening of S
 atsang about 3hrs drive from Hobart.\n  \nWhat does it mean to Live Fully?
 \nThe challenge to live fully is not a casual thing. It is our myriad fear
 s that seemingly stop us from fully flowing in this moment\, meeting it na
 kedly and vulnerably\, and acting from our natural expression. Instead we 
 hold back\, living in our heads\, doubting and judging\, hiding and acting
  on anger\, fear and unworthiness.\n\nAll these feelings and stories that 
 cloud our full living of life are connected to one thing - our identities.
  Who we think we are. “I” becomes a membrane between our true Self and
  this moment.\n\nYou are invited to investigate this core belief in who yo
 u are\, and see for yourself it’s a hungry ghost\, a mind projection tha
 t does not actually exist!\n\nWhen you see through your identity as a some
 body\, you discover your natural self\, always here\, shining in love and 
 presence.\n\nThen action come from your natural self without any holding b
 ack\, without doubt\, blame\, victimhood. You simply be as you are\, meeti
 ng this moment openly and fully\, and participating with joy and happiness
 .\n\n \n
ATTACH;FMTTYPE=image/jpeg:https://www.jaredfranks.com/wp-content/uploads/2
 025/07/Tassie-Farm-4-scaled.png
CATEGORIES:Australia,Retreat
LOCATION:Private Residence in Tasmania\, Address provided upon registration
 \, Tasmania\, Australia
X-APPLE-STRUCTURED-LOCATION;VALUE=URI;X-ADDRESS=Address provided upon regis
 tration\, Tasmania\, Australia;X-APPLE-RADIUS=100;X-TITLE=Private Residenc
 e in Tasmania:geo:0,0
END:VEVENT
BEGIN:VTIMEZONE
TZID:Australia/Sydney
X-LIC-LOCATION:Australia/Sydney
BEGIN:DAYLIGHT
DTSTART:20251005T030000
TZOFFSETFROM:+1000
TZOFFSETTO:+1100
TZNAME:AEDT
END:DAYLIGHT
END:VTIMEZONE
END:VCALENDAR