BEGIN:VCALENDAR
VERSION:2.0
PRODID:-//wp-events-plugin.com//7.2.3.1//EN
BEGIN:VEVENT
UID:213@jaredfranks.com
DTSTART;TZID=Pacific/Auckland:20260516T190000
DTEND;TZID=Pacific/Auckland:20260516T203000
DTSTAMP:20260419T225621Z
URL:https://www.jaredfranks.com/events/open-inquiry-meeting-with-jared-in-
 auckland/
SUMMARY:Open Inquiry Meeting with Jared in Auckland
DESCRIPTION:Open Meeting with Jared Franks in Auckland\nNow more than ever 
 we are challenged to be true to what we want for ourselves and the world. 
 We can’t wait for the outside to change\, we are being called to let go 
 of what is not real\, and live directly from our natural Being --  silent
  and clear\, overflowing with love.\n\nIt’s both effortless and requires
  your full attention.\n\n\n\n\n\nAll are welcome to this open inquiry meet
 ing.\n\n\n\n\nNo Registration necessary.\n\nKoha: $20 paid at the door\n\n
 \n\n\n\n\n\n\n\nLocation:\n28 Durbin Court\nGreenhithe\, Auckland 0632\, N
 ew Zealand\nIf you are interested in more...\nResidential Retreat with Jar
 ed in Taupo\, New Zealand\nRetreat Hosts: Rachel and Deborah\nOpen meeting
  hosts: Dianne and Mark
ATTACH;FMTTYPE=image/jpeg:https://www.jaredfranks.com/wp-content/uploads/2
 025/07/IMG_1049-scaled.jpg
CATEGORIES:NZ,Open Meeting
LOCATION:Dianne and Mark's Home\, 28 Durbin Court\, Greenhithe\, Auckland\,
  New Zealand
X-APPLE-STRUCTURED-LOCATION;VALUE=URI;X-ADDRESS=28 Durbin Court\, Greenhith
 e\, Auckland\, New Zealand;X-APPLE-RADIUS=100;X-TITLE=Dianne and Mark's Ho
 me:geo:0,0
END:VEVENT
BEGIN:VTIMEZONE
TZID:Pacific/Auckland
X-LIC-LOCATION:Pacific/Auckland
BEGIN:STANDARD
DTSTART:20260405T020000
TZOFFSETFROM:+1300
TZOFFSETTO:+1200
TZNAME:NZST
END:STANDARD
END:VTIMEZONE
END:VCALENDAR