BEGIN:VCALENDAR
VERSION:2.0
PRODID:-//wp-events-plugin.com//7.2.3.1//EN
BEGIN:VEVENT
UID:146@jaredfranks.com
DTSTART;TZID=Australia/Perth:20251003T183000
DTEND;TZID=Australia/Perth:20251003T200000
DTSTAMP:20250806T220422Z
URL:https://www.jaredfranks.com/events/open-inquiry-meeting-with-jared-in-
 denmark-au/
SUMMARY:Open Inquiry Meeting with Jared in Denmark\, AU
DESCRIPTION:The Untouched Self: Rediscovering What Is Always Here\nNow more
  than ever we are challenged to be true to what we want for ourselves and 
 the world. We can’t wait for the outside to change\, we are being called
  to let go of what is not real\, and live directly from our natural Being\
 , silent and clear\, overflowing with love. It’s both effortless and req
 uires your full attention.\n\nAll are welcome to this open inquiry meeting
 .\n\nJoin Jared and the WA community in this retreat which is an opportuni
 ty to retreat from the mind and its myriad creations\, to rest as the sile
 nce of this moment.\n \n\n\n\nOpen Meeting Details\nContribution:\n\nSugge
 sted $20 donation at the door\n\nTime:\n\n6:30 - 8pm (please arrive at lea
 st 10 mins early to settle in)\n\nLocation:\n\nLyra House\n77 Inlet Drive\
 nDenmark\, WA Australia\n\nThe stunning nature and beautiful mud brick bui
 lding of Lyra House will be our sanctuary and refuge for deepening. The gr
 ounds are set upon a hill with access to the inlet and there will be space
  to walk\, rest &amp\; be or to retire back to your accommodation or find 
 yourself held by the natural beauty that this area offers\, be it river\, 
 ocean or forest.There is ample parking &amp\; a kitchen with a fridge and 
 possibility to heat food if need be.\n\nFor inquiries please contact local
  host Kate – kate_lee@y7mail.com
ATTACH;FMTTYPE=image/jpeg:https://www.jaredfranks.com/wp-content/uploads/2
 024/12/Jared_Lennox_2024_small-27-scaled.jpg
CATEGORIES:Australia,Open Meeting,Satsang
LOCATION:Lyra House\, 77 Inlet Drive\, Denmark\, Western Australia\, Austra
 lia
X-APPLE-STRUCTURED-LOCATION;VALUE=URI;X-ADDRESS=77 Inlet Drive\, Denmark\, 
 Western Australia\, Australia;X-APPLE-RADIUS=100;X-TITLE=Lyra House:geo:0,
 0
END:VEVENT
BEGIN:VTIMEZONE
TZID:Australia/Perth
X-LIC-LOCATION:Australia/Perth
BEGIN:STANDARD
DTSTART:20241003T183000
TZOFFSETFROM:+0800
TZOFFSETTO:+0800
TZNAME:AWST
END:STANDARD
END:VTIMEZONE
END:VCALENDAR