BEGIN:VCALENDAR
VERSION:2.0
PRODID:-//wp-events-plugin.com//7.2.3.1//EN
BEGIN:VEVENT
UID:147@jaredfranks.com
DTSTART;TZID=Australia/Perth:20251001T183000
DTEND;TZID=Australia/Perth:20251001T200000
DTSTAMP:20250806T221416Z
URL:https://www.jaredfranks.com/events/open-inquiry-meeting-with-jared-in-
 perth-au/
SUMMARY:Open Inquiry Meeting with Jared in Perth\, AU
DESCRIPTION:Open Inquiry Meeting with Jared in Perth\nWednesday Oct 1st at 
 6:30pm\nNow more than ever we are challenged to be true to what we want fo
 r ourselves and the world. We can’t wait for the outside to change\, we 
 are being called to let go of what is not real\, and live directly from ou
 r natural Being\, silent and clear\, overflowing with love. It’s both ef
 fortless and requires your full attention.\n\nAll are welcome to this open
  inquiry meeting.\n\nJoin Jared and the WA community in this open meeting 
 which is an opportunity to retreat from the mind and its myriad creations\
 , to rest as the silence of this moment.\n\n\n\n\nOpen Meeting Details\nCo
 ntribution:\n\nSuggested $20 donation at the door\n\nTime:\n\n6:30 - 8pm (
 please arrive at least 10 mins early to settle in)\n\nLocation:\n\nBeacons
 field Yoga Centre\, Satsang Room\n151 South Street\nBeaconsfield\, WA Aust
 ralia\n\nFor inquiries please contact Sarah – sarahtempo75@gmail.com
ATTACH;FMTTYPE=image/jpeg:https://www.jaredfranks.com/wp-content/uploads/2
 025/08/Rottnest-Island-The-Basin-Western-Australia-1000x3000-1.jpg
CATEGORIES:Australia,Open Meeting,Satsang
LOCATION:Beaconsfield Yoga Centre\, 151 South Street\, Beaconsfield\, Weste
 rn Australia\, Australia
X-APPLE-STRUCTURED-LOCATION;VALUE=URI;X-ADDRESS=151 South Street\, Beaconsf
 ield\, Western Australia\, Australia;X-APPLE-RADIUS=100;X-TITLE=Beaconsfie
 ld Yoga Centre:geo:0,0
END:VEVENT
BEGIN:VTIMEZONE
TZID:Australia/Perth
X-LIC-LOCATION:Australia/Perth
BEGIN:STANDARD
DTSTART:20241001T183000
TZOFFSETFROM:+0800
TZOFFSETTO:+0800
TZNAME:AWST
END:STANDARD
END:VTIMEZONE
END:VCALENDAR