BEGIN:VCALENDAR
VERSION:2.0
PRODID:-//wp-events-plugin.com//7.2.3.1//EN
BEGIN:VEVENT
UID:214@jaredfranks.com
DTSTART;TZID=Pacific/Auckland:20260516T180000
DTEND;TZID=Pacific/Auckland:20260516T193000
DTSTAMP:20260419T230155Z
URL:https://www.jaredfranks.com/events/open-inquiry-meeting-with-jared-in-
 taupo/
SUMMARY:Open Inquiry Meeting with Jared in Taupō
DESCRIPTION:Open Meeting with Jared Franks in Taupō\nNow more than ever we
  are challenged to be true to what we want for ourselves and the world. We
  can’t wait for the outside to change\, we are being called to let go of
  what is not real\, and live directly from our natural Being --  silent a
 nd clear\, overflowing with love.\n\nIt’s both effortless and requires y
 our full attention.\n\n\n\n\n\nAll are welcome to this open inquiry meetin
 g.\n\n\n\n\nNo Registration necessary.\n\nKoha: $20 paid at the door\n\n\n
 \n\n\n\n\n\n\nLocation:\nTauhara Retreat and Conference Centre NZ\n\n60 Ac
 acia Heights Drive\, Acacia Bay\, Taupō 3385\, New Zealand\nIf you are in
 terested in more...\nResidential Retreat with Jared in Taupo\, New Zealand
 \nRetreat Hosts: Rachel and Deborah
ATTACH;FMTTYPE=image/jpeg:https://www.jaredfranks.com/wp-content/uploads/2
 026/01/Screenshot-2026-01-14-at-5.51.00-PM.png
CATEGORIES:NZ,Open Meeting
LOCATION:Tauhara Centre\, 60 Acacia Heights Drive\, Acacia Bay\, Taupo\, 33
 85\, New Zealand
X-APPLE-STRUCTURED-LOCATION;VALUE=URI;X-ADDRESS=60 Acacia Heights Drive\, A
 cacia Bay\, Taupo\, 3385\, New Zealand;X-APPLE-RADIUS=100;X-TITLE=Tauhara 
 Centre:geo:0,0
END:VEVENT
BEGIN:VTIMEZONE
TZID:Pacific/Auckland
X-LIC-LOCATION:Pacific/Auckland
BEGIN:STANDARD
DTSTART:20260405T020000
TZOFFSETFROM:+1300
TZOFFSETTO:+1200
TZNAME:NZST
END:STANDARD
END:VTIMEZONE
END:VCALENDAR