BEGIN:VCALENDAR
VERSION:2.0
PRODID:-//wp-events-plugin.com//7.2.3.1//EN
BEGIN:VEVENT
UID:208@jaredfranks.com
DTSTART;TZID=Europe/Berlin:20260603T190000
DTEND;TZID=Europe/Berlin:20260603T203000
DTSTAMP:20260220T050012Z
URL:https://www.jaredfranks.com/events/open-meeting-berlin/
SUMMARY:Open Meeting with Jared in Berlin
DESCRIPTION:Open Meeting with Jared Franks in Berlin\nNow more than ever we
  are challenged to be true to what we want for ourselves and the world. We
  can’t wait for the outside to change\, we are being called to let go of
  what is not real\, and live directly from our natural Being\, silent and 
 clear\, overflowing with love. It’s both effortless and requires your fu
 ll attention.\n\n\n\n\n\nAll are welcome to this open inquiry meeting.\n\n
 Language: English\nThe group will support you if you need translation.\n\n
 \n\nNo Registration necessary.\n\nTuition: € 20 Euros paid at the door (
 no extra cost for those attending the entire retreat)\n\n\n\n\n\n\n\n\n\nL
 ocation:\nUniversal-Tao-Germany-Zentrum\nKärntener Str. 20 / 1.OG\n10827 
 Berlin\n\n&nbsp\;\nIf you are interested in more...\n5-Day Retreat with Ja
 red in Berlin\, Germany\nRetreat Host: Petra Strube: petramaria.strube@pos
 teo.de
ATTACH;FMTTYPE=image/jpeg:https://www.jaredfranks.com/wp-content/uploads/2
 026/02/Jared-23.06.25-54.jpeg
CATEGORIES:Europe,Leela School,Open Meeting,Satsang,Self-Inquiry
END:VEVENT
BEGIN:VTIMEZONE
TZID:Europe/Berlin
X-LIC-LOCATION:Europe/Berlin
BEGIN:DAYLIGHT
DTSTART:20260329T030000
TZOFFSETFROM:+0100
TZOFFSETTO:+0200
TZNAME:CEST
END:DAYLIGHT
END:VTIMEZONE
END:VCALENDAR