BEGIN:VCALENDAR
VERSION:2.0
PRODID:-//wp-events-plugin.com//7.2.3.1//EN
BEGIN:VEVENT
UID:4@jaredfranks.com
DTSTART;TZID=Australia/Sydney:20240222T190000
DTEND;TZID=Australia/Sydney:20240222T200000
DTSTAMP:20240208T003303Z
URL:https://www.jaredfranks.com/events/open-meeting-with-jared-and-lisa-in
 -lennox-head-hybrid/
SUMMARY:Open Meeting with Jared and Lisa in Lennox Head (Hybrid)
DESCRIPTION:AN OPEN MEETING WITH JARED FRANKS AND LISA SCHUMACHER IN LENNOX
  HEAD\, AUSTRALIA\nTHIS MEETING IS AVAILABLE TO ATTEND IN-PERSON AND ONLIN
 E\n\nAll are welcome to this Open Meeting with Jared and Lisa.\n\nTime: Th
 ursday 22nd February at 7pm AEDT\n\nVenue:\nLennox Head Cultural Centre 
 – CWA Hall\n1 Mackney Lane\, Lennox Head\, NSW 2478\n\nOpen for all who 
 would like to attend with a suggested donation of $20. No registration nec
 essary for in-person participants.\n\nRegistration is required for those a
 ttending online only. Click here to register.
ATTACH;FMTTYPE=image/jpeg:https://www.jaredfranks.com/wp-content/uploads/2
 024/02/286727968_2059804194181160_2822591664144132241_n.jpg
CATEGORIES:Open Meeting,Retreat,Satsang,Self-Inquiry
LOCATION:Lennox Head Cultural Centre - CWA Hall\, 1 Mackney Lane\, Lennox H
 ead\, 2478\, NSW\, Australia
X-APPLE-STRUCTURED-LOCATION;VALUE=URI;X-ADDRESS=1 Mackney Lane\, Lennox Hea
 d\, 2478\, NSW\, Australia;X-APPLE-RADIUS=100;X-TITLE=Lennox Head Cultural
  Centre - CWA Hall:geo:0,0
END:VEVENT
BEGIN:VTIMEZONE
TZID:Australia/Sydney
X-LIC-LOCATION:Australia/Sydney
BEGIN:DAYLIGHT
DTSTART:20231001T030000
TZOFFSETFROM:+1000
TZOFFSETTO:+1100
TZNAME:AEDT
END:DAYLIGHT
END:VTIMEZONE
END:VCALENDAR