BEGIN:VCALENDAR
VERSION:2.0
PRODID:-//wp-events-plugin.com//7.2.3.1//EN
BEGIN:VEVENT
UID:2@jaredfranks.com
DTSTART;TZID=Australia/Sydney:20240209T190000
DTEND;TZID=Australia/Sydney:20240209T200000
DTSTAMP:20240208T003722Z
URL:https://www.jaredfranks.com/events/open-meeting-with-jared-and-lisa-in
 -the-blue-mountains-au-hybrid/
SUMMARY:Open Meeting with Jared and Lisa in the Blue Mountains AU (Hybrid)
DESCRIPTION:AN OPEN MEETING WITH JARED FRANKS AND LISA SCHUMACHER IN THE BL
 UE MOUNTAINS\, AUSTRALIA\nTHIS MEETING IS AVAILABLE TO ATTEND IN-PERSON AN
 D ONLINE\n\nAll are welcome to this Open Meeting with Jared and Lisa.\n\nV
 enue: KindleHill School Hall\, 8 Lake St.\, Wentworth Falls\, 2782 NSW Aus
 tralia\n\nTime: Friday 9th February at 7pm AEDT\n\nOpen for all who would 
 like to attend with a suggested donation of $20. No registration necessary
  for in-person participants.\n\nRegistration is required for those attendi
 ng online only. Please CLICK HERE to register for a Zoom link.\n\nPlease n
 ote\, that this event is part of a longer retreat\, for more details\, ple
 ase click here.
ATTACH;FMTTYPE=image/jpeg:https://www.jaredfranks.com/wp-content/uploads/2
 024/02/Jared-and-Lisa-walking-cropped-scaled.jpg
CATEGORIES:Blue Mountains,Open Meeting,Retreat,Satsang,Self-Inquiry
LOCATION:Kindlehill School Hall\, 8 Lake Street\, Wentworth Falls\, NSW\, 2
 782\, Blue Mountains\, Australia
X-APPLE-STRUCTURED-LOCATION;VALUE=URI;X-ADDRESS=8 Lake Street\, Wentworth F
 alls\, NSW\, 2782\, Blue Mountains\, Australia;X-APPLE-RADIUS=100;X-TITLE=
 Kindlehill School Hall:geo:0,0
END:VEVENT
BEGIN:VTIMEZONE
TZID:Australia/Sydney
X-LIC-LOCATION:Australia/Sydney
BEGIN:DAYLIGHT
DTSTART:20231001T030000
TZOFFSETFROM:+1000
TZOFFSETTO:+1100
TZNAME:AEDT
END:DAYLIGHT
END:VTIMEZONE
END:VCALENDAR