BEGIN:VCALENDAR
VERSION:2.0
PRODID:-//wp-events-plugin.com//7.2.3.1//EN
BEGIN:VEVENT
UID:6@jaredfranks.com
DTSTART:20240314T183000Z
DTEND:20240314T193000Z
DTSTAMP:20240208T011344Z
URL:https://www.jaredfranks.com/events/open-meeting-with-jared-and-lisa-in
 -vienna/
SUMMARY:Open Meeting with Jared and Lisa in Vienna
DESCRIPTION:AN OPEN MEETING WITH JARED FRANKS AND LISA SCHUMACHER IN VIENNA
 \n\nAll are welcome to this Open Meeting with Jared and Lisa.\n\nTime: Thu
 rsday 14th March at 7:30pm EU CET Time\n\nVenue:\nCo-Housing Community B.R
 .O.T. Kalksburg\nPromenadeweg 5\n1230 Vienna\, Austria\n\nNo registration 
 necessary.\n\nThis meeting will be in English\, with German Translation.\n
 \nCost to attend the Open Meeting is € 20 Euros (no extra cost for those
  attending the entire retreat).\n\nThis event is a part of a longer retrea
 t event\, for more details\, please click here.\n\nQUESTIONS?: PLEASE CONT
 ACT MARLEN.DITTAMI@GMAIL.COM OR ELISA M. +43 6504545046\nThe website of th
 e community: https://www.brot-kalksburg.at/
ATTACH;FMTTYPE=image/jpeg:https://www.jaredfranks.com/wp-content/uploads/2
 024/02/287523180_2062761147218798_3520034025056230474_n.jpg
CATEGORIES:Open Meeting,Retreat,Satsang,Self-Inquiry
LOCATION:Co-Housing Community B.R.O.T. Kalksburg\, Promenadeweg 5\, Vienna\
 , 1230\, Austria
X-APPLE-STRUCTURED-LOCATION;VALUE=URI;X-ADDRESS=Promenadeweg 5\, Vienna\, 1
 230\, Austria;X-APPLE-RADIUS=100;X-TITLE=Co-Housing Community B.R.O.T. Kal
 ksburg:geo:0,0
END:VEVENT
END:VCALENDAR