BEGIN:VCALENDAR
VERSION:2.0
PRODID:-//wp-events-plugin.com//7.2.3.1//EN
BEGIN:VEVENT
UID:13@jaredfranks.com
DTSTART;TZID=Pacific/Auckland:20240807T190000
DTEND;TZID=Pacific/Auckland:20240807T203000
DTSTAMP:20240405T013648Z
URL:https://www.jaredfranks.com/events/open-meeting-with-jared-in-auckland
 -2/
SUMMARY:Open Meeting with Jared in Auckland
DESCRIPTION:You are invited to this Open Meeting with Jared\, where you wil
 l receive direct support to turn your attention inwards to find who you ar
 e. With the possibility to ask questions directly to Jared\, and observe o
 thers sharing their questions and insights\, there is a deepening clarity 
 snd surrender into the heart when we gather in these meetings.\nIt’s pos
 sible to wake up from the illusion of separation\, and discover fulfillmen
 t and love as the ground of Being\, deeper than any story. \nVenue:\nVart
 amana Retreat Centre\n1119 Scenic Drive\, Swanson\, Auckland\, New Zealand
 \n\nTime:  7pm\n\nOpen for all who would like to attend with a suggested 
 donation of $20.\n\nNo registration necessary.\n\nThis event is the beginn
 ing of a 3-day retreat\, for more information about the full retreat\, cli
 ck here.\n\n&nbsp\;
ATTACH;FMTTYPE=image/jpeg:https://www.jaredfranks.com/wp-content/uploads/2
 024/02/Jared-MB-2-smaller.jpg
CATEGORIES:NZ,Open Meeting,Satsang,Self-Inquiry
END:VEVENT
BEGIN:VTIMEZONE
TZID:Pacific/Auckland
X-LIC-LOCATION:Pacific/Auckland
BEGIN:STANDARD
DTSTART:20240407T020000
TZOFFSETFROM:+1300
TZOFFSETTO:+1200
TZNAME:NZST
END:STANDARD
END:VTIMEZONE
END:VCALENDAR