BEGIN:VCALENDAR
VERSION:2.0
PRODID:-//wp-events-plugin.com//7.2.3.1//EN
BEGIN:VEVENT
UID:197@jaredfranks.com
DTSTART;TZID=Asia/Jakarta;VALUE=DATE:20260326
DTEND;TZID=Asia/Jakarta;VALUE=DATE:20260331
DTSTAMP:20260106T095703Z
URL:https://www.jaredfranks.com/events/residential-retreat-in-ubud-bali/
SUMMARY:Residential Retreat in Ubud\, Bali
DESCRIPTION:\n\nAwaken to The Heart of Being\n\n\n\n\nRetreat in the sacred
  lands of Ubud\, Bali — guided by Jared\n\n\n\n\n\nBeneath the palms and
  temple bells of Ubud\, you are invited into a space of stillness – wher
 e truth reveals itself through presence\, silence\, and inquiry. Step away
  from everyday life and rest deeply in what is always here. It’s a homec
 oming to your True Nature.\n\nMarch 26 – 30\, 2026\n\nAvailable online a
 nd in-person\n\nDiscover more information and save your spot here &gt\; &g
 t\;\n\n\n
ATTACH;FMTTYPE=image/jpeg:https://www.jaredfranks.com/wp-content/uploads/2
 025/11/Screenshot-2025-11-19-at-7.37.20-PM.png
CATEGORIES:Retreat
LOCATION:https://www.jaredfranks.com/bali-retreat-2026/
END:VEVENT
BEGIN:VTIMEZONE
TZID:Asia/Jakarta
X-LIC-LOCATION:Asia/Jakarta
BEGIN:STANDARD
DTSTART:20250326T000000
TZOFFSETFROM:+0700
TZOFFSETTO:+0700
TZNAME:WIB
END:STANDARD
END:VTIMEZONE
END:VCALENDAR