BEGIN:VCALENDAR
VERSION:2.0
PRODID:-//wp-events-plugin.com//7.2.3.1//EN
BEGIN:VEVENT
UID:196@jaredfranks.com
DTSTART;TZID=Pacific/Auckland;VALUE=DATE:20260521
DTEND;TZID=Pacific/Auckland;VALUE=DATE:20260525
DTSTAMP:20251212T095748Z
URL:https://www.jaredfranks.com/events/residential-retreat-with-jared-in-t
 aupo-new-zealand/
SUMMARY:Residential Retreat with Jared in Taupō\, New Zealand
DESCRIPTION:\n\nDiscover Unwavering Peace and Joy as Yourself through Inqui
 ry\n\n\n\n\nResidential Retreat with Jared in Taupō\, New Zealand\n\n\n\n
 \n\nA fully immersive retreat with Jared and heart-centred community\, hel
 d in a peaceful residential setting. Step away from everyday life and rest
  deeply in what is always here. Every detail is taken care of — so you c
 an simply arrive\, be supported\, and turn inward.\n\nDiscover more inform
 ation and Register here &gt\; &gt\;\nYou’re warmly invited to join Jared
  and the NZ sangha for 4 days of self-inquiry\, silence\, and authentic co
 nnection.\nIn this sacred residential setting\, we live and inquire togeth
 er — with nothing to fix or improve\, simply the invitation to meet what
 ’s here\, as it is.\n\n\n
ATTACH;FMTTYPE=image/jpeg:https://www.jaredfranks.com/wp-content/uploads/2
 025/09/7.jpg
CATEGORIES:NZ,Retreat
END:VEVENT
BEGIN:VTIMEZONE
TZID:Pacific/Auckland
X-LIC-LOCATION:Pacific/Auckland
BEGIN:STANDARD
DTSTART:20260405T020000
TZOFFSETFROM:+1300
TZOFFSETTO:+1200
TZNAME:NZST
END:STANDARD
END:VTIMEZONE
END:VCALENDAR