BEGIN:VCALENDAR
VERSION:2.0
PRODID:-//wp-events-plugin.com//7.2.3.1//EN
BEGIN:VEVENT
UID:140@jaredfranks.com
DTSTART;TZID=Australia/Sydney;VALUE=DATE:20250516
DTEND;TZID=Australia/Sydney;VALUE=DATE:20250519
DTSTAMP:20250413T033916Z
URL:https://www.jaredfranks.com/events/retreat-with-jared-in-blue-mountain
 s/
SUMMARY:Love At the Core of All Being - Weekend Retreat in the Blue Mountai
 ns
DESCRIPTION:Love At the Core of All Being\nWEEKEND RETREAT WITH JARED IN TH
 E BLUE MOUNTAINS\nFRIDAY MAY 16TH – SUNDAY MAY 18TH\, 2025\nThis retreat
  can be attended in person or online\n\n\nWhen our attention is caught in 
 the mind’s needs and desires\, in survival and judgment\, projection and
  fear\, we forget that at the core of our Being is an inherent connectedne
 ss to all existence\; oneness\, that when felt directly can be called Love
  or bliss.\n\nThis retreat is an opportunity to turn away from our project
 ions of what is real and who we think we are\, to discover what is here in
  the depths of our own Being\, waiting for us to come home to ourselves.\n
 \n“I have heard it said and I agree that all humans are either expressin
 g love or expressing a desire for love. When our true nature is veiled by 
 ego\, this apparent separation leads to the search for love. In both cases
 \, it is clear love is at the core\, and this love is welcoming us home wh
 enever we are ready to hear the call.”  - Jared\nRegister on the Leela 
 School Website\n\n&nbsp\;\n\n\nRetreat Details\n\n\nTuition: Early Bird $3
 25 until April 25th\, Full Price $385 (after April 25th)\n\nVenue:\nKindle
 Hill School Hall\,  8 Lake St.\, Wentworth Falls\, 2782 NSW Australia\n\n
 \n\n\nOnline Attendees will receive zoom links beforehand.\nIf you are att
 ending online\, please make a note in the notes area of your registration.
 \n\nSession Times (All in AU AEST Time):\nFriday May 16th One Meeting at 7
 pm (Open Meeting)\nSaturday May 17th: Three Meetings\, 10am\, 2pm and 5pm\
 nSunday May 18th: Two Meetings\, 10am and 2pm\n\nEach session lasts 1.5-2 
 hours\nRegister on the Leela School Website\n&nbsp\;\n\n\n\nCancellation p
 olicy\nIf you need to cancel your registration\, please email the Leela Sc
 hool at info@leela.org\nIf you cancel more than 30 days before the retreat
  begins (for in person events) and 14 days before (for online events) your
  full payment minus $50.00 will be refunded. After that no refunds are giv
 en.\n\n\n\n\n\n\n
ATTACH;FMTTYPE=image/jpeg:https://www.jaredfranks.com/wp-content/uploads/2
 025/04/Blue-mtns-group-shot.png
CATEGORIES:Australia,Blue Mountains,Retreat,Self-Inquiry
LOCATION:KindleHill School Hall\, 8 Lake Street\, Wentworth Falls\, NSW\, 2
 782\, Australia
X-APPLE-STRUCTURED-LOCATION;VALUE=URI;X-ADDRESS=8 Lake Street\, Wentworth F
 alls\, NSW\, 2782\, Australia;X-APPLE-RADIUS=100;X-TITLE=KindleHill School
  Hall:geo:0,0
END:VEVENT
BEGIN:VTIMEZONE
TZID:Australia/Sydney
X-LIC-LOCATION:Australia/Sydney
BEGIN:STANDARD
DTSTART:20250406T020000
TZOFFSETFROM:+1100
TZOFFSETTO:+1000
TZNAME:AEST
END:STANDARD
END:VTIMEZONE
END:VCALENDAR