BEGIN:VCALENDAR
VERSION:2.0
PRODID:-//wp-events-plugin.com//7.2.3.1//EN
BEGIN:VEVENT
UID:10@jaredfranks.com
DTSTART:20240620T110000Z
DTEND:20240905T133000Z
DTSTAMP:20240423T041850Z
URL:https://www.jaredfranks.com/events/the-enneagram-of-liberation-in-serv
 ice-for-awakening/
SUMMARY:The Enneagram of Liberation: In Service for Awakening
DESCRIPTION:\n\nA 40-hour 11-week live online course with Enneagram pioneer
  and author Eli Jaxon-Bear\, and Leela School teachers. This course is bas
 ed on the book Fixation to Freedom: The Enneagram of Liberation by Eli J
 axon-Bear.\n\nThis course is included for those that are registered for ou
 r Depth Immersion Full Year course. Or\, you can register for this as a st
 and alone retreat.\n\n\nRegister here.\n\n\nThe enneagram of liberation is
  an ancient and powerful wisdom mirror. The unique way that Eli presents i
 t\, in the context of non-duality\, helps you see clearly through the stru
 cture of your egoic identity. This course is designed for helping professi
 onals who want to deepen their realization and to incorporate this powerfu
 l tool into their existing coaching\, teaching or therapeutic practice.\n\
 nIn this course you will:\n\n 	Discover a new depth of insight into your o
 wn and your clients’ egoic fixation.\n 	Discover a new model of the enne
 agram fixations experientially through live classes\, exercises\, weekly p
 ods\, and videos of people describing their fixation and their awakening.\
 n 	Learn about the historical roots of this Pythagorean Mystery School tea
 ching and its modern application to Character Fixation.\n 	Receive Eli’s
  decades of intimate knowledge of this map of the ego\; uncover its true p
 otential as a wisdom mirror to reflect who you are not in the search for y
 our true self.\n 	Learn the skillful means of embodied inquiry to facilita
 te insight\n 	Ask clarifying questions about your fixation and playfully d
 iscover its aspects through our weekly pods\n\nReceive loving support to d
 iscover your true self underneath the fixation.\n\nWhat to expect:\n\nThis
  is an 11-week Course comprising weekly videos\, meeting in pods\, and a T
 hursday evening group meeting with a teacher. We will focus on one fixati
 on each week. We will start the week by watching an hour and half video of
  Eli teaching a particular fixation\, using movie clips and personal repor
 ts. We will then break into pods to work with this fixation\, allowing tim
 e for in-depth\, detailed exploration. Then we will watch a follow-up vide
 o\, mid-week\, to see the same fixation examined in a different way\, agai
 n with Eli teaching\, using film clips and personal reports. The week ends
  with a live meeting with a teacher to lead exercises and deepen the conve
 rsation.\n\nTuition: $1250 USD\n\nStructure of the course:\nThursday June 
 20th – Introduction Class 6pm-7:30pm (US Pacific Time)\n\nFollowing the 
 introduction\, each week you will be given 2 videos to watch on your own t
 ime. You will meet with your own pod early in the week at a time that work
 s best for your group.  Thursdays we meet back with a teacher and the ent
 ire group for questions and answers and exercises. You will have access to
  all of the videos as well as the recording of each Thursday night meeting
 .\n\nDates:\nThursday June 20th\, June 27th\, July 11th\, July 18th\, July
  25th\, August 1st\, August 8th\, August 15th\, August 22nd\, August 29th\
 , September 5th\n\nTimes:\nUS Pacific: Thursdays 6pm – 7:30pm\n\nUS East
 ern: Thursdays 9pm – 10:30pm\n\nAU Sydney AEST: Fridays 11am – 1:30pm\
 n\nNZ Auckland NZST: Fridays 1pm – 3:30pm\n\nJapan JST: Fridays 10am –
  12:30pm\n\n\nIN EUROPE\, CEST TIME: You will meet with Heidi and Sylvia T
 uesday evenings\, 7pm – 8:30pm starting June 25th\, 2024 (running one we
 ek behind the schedule above)\n\n\nCancellation policy\nIf you need to can
 cel your registration\, please email us at info@leela.org\nIf you cancel 
 more than 30 days before the retreat begins (for in person events) and 14 
 days before (for online events) your full payment minus $50.00 will be ref
 unded. After that no refunds are given.\n\n\n\n\nThis course is equal to 4
 0 CEUs (Continuing Education Units) for students applying for advanced cer
 tification or certification renewals.\n\n
ATTACH;FMTTYPE=image/jpeg:https://www.jaredfranks.com/wp-content/uploads/2
 024/03/Eli_23-2-scaled-1.jpg
CATEGORIES:Enneagram,Leela School,Online,Self-Inquiry
END:VEVENT
END:VCALENDAR