BEGIN:VCALENDAR
VERSION:2.0
PRODID:-//wp-events-plugin.com//7.2.3.1//EN
BEGIN:VEVENT
UID:18@jaredfranks.com
DTSTART;TZID=Australia/Sydney:20241118T150000
DTEND;TZID=Australia/Sydney:20241127T150000
DTSTAMP:20240405T015146Z
URL:https://www.jaredfranks.com/events/the-leela-depth-immersion-au-retrea
 t-2-2024/
SUMMARY:The Leela Depth Immersion AU – Retreat #2 2024
DESCRIPTION:In-Person (with onsite accommodations) &amp\; online Retreat/Co
 urse  ~ 50 hours\n\nThis retreat is the 2nd 8-day retreat that is part of
  our full year Depth Immersion course. To attend you must be a part of the
  2024 Depth Immersion or Leela Facilitator Training Program.\n\nRegistrati
 on and payment options at the bottom of this page.\n\n&nbsp\;\n\nWelcome t
 o our November Depth Immersion Awakening Retreat which will be held at Wyb
 alena Organic Farms.\n\nLocated on 170 acres within the Byron Bay Hinterla
 nd\, Wybalena is a retreat venue set amongst serene countryside and untouc
 hed bushland.\n\n  \n\nClick here for brochure\n\nThis venue can host up 
 to 25 participants to stay onsite. If you have a motorhome or van that you
  would like to stay in\, there are 3 sites designated for those. Please re
 ad below for more details.\n\nThis venue does not allow anyone to come in-
 person unless they are also staying onsite. That means that you can either
  attend in-person and stay with the group at this beautiful location\, or 
 attend online only.\n\nCapacity for Onsite Attendees: 25\n\nLocation:\nWyb
 alena Organic Farms\n789 The Pocket Rd\nThe Pocket\, NSW AU\n\nPotential R
 etreat Schedule:\n\nMonday Nov. 18th: Arrive Wybalena by 3pm\n\nGroup Cate
 red Dinner (time TBD)\n\nOpen Meeting with Jared and Lisa (time TBD)\n\nTu
 esday Nov. 19th – Monday Nov. 25th:\n\nThree meetings per day\, and cat
 ered lunch and dinner for the group daily\n\nTuesday Nov 26th: Last meetin
 g in the morning\, followed by last catered lunch\; then evening bonfire\,
  potluck dinner and get together for singing\, dancing and poetry\n\nWedne
 sday Nov 27th: Check out by 10am\n\n&nbsp\;\n\nAll costs below are for 9 n
 ights at the location\, AND catered lunch and dinner each day. \n\nThe me
 als will be vegetarian\, with gluten free and dairy free options provided 
 at each meal.  Please let Leigh know about any allergies or other dietar
 y restrictions upon registration.\n\nThe caterer’s website is here: tru
 enaturecuisine.com.au\n\n&nbsp\;\n\nAll prices include catering (lunch and
  dinner each day)\n\nThe Main House\n\nRoom B\, Double bed – room B has
  shared bathroom\, $159.33 per night\, total $1434\n\n&nbsp\;\n\nTier 1 C
 ABIN (Gunmut Cabins)\, Cabins have 1 x queen bed room &amp\; 1 x double be
 d room with shared kitchenette\, lounge room\, each room has their own pri
 vate deck on each end of the cabin\n\nCABIN A\n\nQueen room – $215.33 p
 er night\, total $1938\n\nDouble room – $204.33 per night\, total $1839
 \n\nCABIN B\n\nQueen room – $215.33 per night\, total $1938\n\nDouble r
 oom – $204.33 per night\, total $1839\n\nCABIN C\n\nQueen room – $21
 5.33 per night\, total $1938\n\nDouble room – $204.33 per night\, total
  $1839\n\nCABIN D \n\nKing room for a couple – $388.67 per night\, tot
 al $3498 (this is for two\, catering and room)\n\n&nbsp\;\n\nTIER 2 ROOMS 
 (The Garden Rooms)\, 1 x double bed with private ensuite bathroom\, shared
  full kitchen facilities.\n\nRoom 1 – $187.33 per night\, total $1686\n
 \nRoom 2 – 187.33 per night\, total $1686\n\nRoom 3 – 187.33 per nig
 ht\, total $1686\n\nRoom 4 – 187.33 per night\, total $1686\n\n&nbsp\;\
 n\nTIER 3 ROOMS (The Banksia Rooms)\, \n\nROOM A\, shared room with divi
 der between beds\, shared bathroom and full kitchen facilities available
  in the main house\n\nDouble bed – $137.33 per night\, total $1236\n\n
 Double bed – $137.33 per night\, total $1236\n\nROOM B\, shared room\,
  bathroom with divider between beds\n\nDouble bed – $137.33 per night\,
  total $1236\n\nDouble bed – $137.33 per night\, total $1236\n\nROOM C\
 , shared room\, bathroom with divider between beds\n\nSingle bed – $121
 .33 per night\, total $1092\n\nSingle bed – $121.33 per night\, total $
 1092\n\n&nbsp\;\n\n3 X MOTORHOME VANS\, no power sites for those that are 
 bringing a motorhome\n\n–shared bathroom and full kitchen facilities ava
 ilable\, also full access ice bath\, sauna &amp\; magnesium pool\n\nVan 1
  –  $73.33 per night\, total $660\n\nVan 2 – $73.33 per night\, tot
 al $660\n\nVan 3 – $73.33 per night\, total $660\n\n&nbsp\;\n\nThere ar
 e three ways to pay:\n\nPay the full the amounts above.\n\nOr pay 50% by M
 ay 5th and the remainder by October 5th of the amounts above.\n\nOR\, pa
 y a $400 deposit\, then 6 monthly payments (amount will be based on your r
 oom rate)\, with an 8% finance fee.\n\nPlease email Leigh to reserve you
 r room and to set up your payment plan and she will send you an invoice.\n
 \nCancellation policy for the Retreat\nIf you need to cancel your registra
 tion\, please email us at info@leela.org\nIf you cancel prior to October 
 1st\, you will be given a 50% refund unless you can find someone to take y
 our spot. If you cancel after October 1st\, no refunds are given.
ATTACH;FMTTYPE=image/jpeg:https://www.jaredfranks.com/wp-content/uploads/2
 024/01/IMG_6215-e1562666399282-scaled.jpg
CATEGORIES:Australia,Leela School,Online,Retreat,Satsang,Self-Inquiry
END:VEVENT
BEGIN:VTIMEZONE
TZID:Australia/Sydney
X-LIC-LOCATION:Australia/Sydney
BEGIN:DAYLIGHT
DTSTART:20241006T030000
TZOFFSETFROM:+1000
TZOFFSETTO:+1100
TZNAME:AEDT
END:DAYLIGHT
END:VTIMEZONE
END:VCALENDAR