BEGIN:VCALENDAR
VERSION:2.0
PRODID:-//wp-events-plugin.com//7.2.3.1//EN
BEGIN:VEVENT
UID:5@jaredfranks.com
DTSTART;TZID=Australia/Sydney;VALUE=DATE:20240223
DTEND;TZID=Australia/Sydney;VALUE=DATE:20240302
DTSTAMP:20240208T004701Z
URL:https://www.jaredfranks.com/events/the-leela-depth-immersion-awaken-to
 -your-true-nature-retreat-au-2024/
SUMMARY:The Leela Depth Immersion – Awaken to your True Nature Retreat AU
  2024
DESCRIPTION:The Leela Depth Immersion - Awaken to your True Nature\n\nWhat 
 do you really want? The Call of the Heart\n\nIn-Person &amp\; online Retre
 at/Course ~ 8 days ~ 50 hours\n\nIn this retreat you will:\n\n 	Meet in Sa
 tsang with Eli Jaxon-Bear and receive his transmission and teaching of dir
 ect realization*\n 	Discover what it means to be a True Friend and embody 
 this stance towards yourself and the world\n 	Discover your heart’s true
  desire and strengthen your resolve\n 	See how you betray it through habit
 ual movements of the mind\n 	Uncover and resolve your traumatic wounds res
 ourcefully\n 	Receive loving\, healing and clarifying support to discover 
 your true nature\n*Eli will not be physically present in Australia\, but w
 ill be coming in live via Zoom\, for one meeting per day for the entire re
 treat. The rest of the retreat is led by Leela School Teachers\, Jared and
  Lisa.\n\nThis is a stand alone retreat\, or the first part of our full ye
 ar Leela Depth Immersion Program\n\nCost: $950 AUD\n\nDates: February 23 
 – March 1\, 2024\n\nRegister here.\n\nVenue:\nLennox Head Cultural Centr
 e – CWA Hall\n1 Mackney Lane\, Lennox Head\, NSW 2478\nLennox Head Cultu
 ral Centre Website\n\nSchedule in Sydney AU AEDT Time:\nFriday Feb 23 – 
 Thursday Feb 29th: Three meetings per day at 10am\, 1pm and 4:30pm\nFriday
  March 1: Last meeting at 10am\n\nSchedule in US Pacific Time (for those a
 ttending online):\nThursday Feb 22 – Wednesday Feb 28th: Three meetings 
 per day at 3pm\, 6pm and 9:30pm\nThursday Feb 29th: Last meeting at 3pm\n\
 nSchedule in EU CET Time (for those attending online):\nFriday Feb 23 – 
 Thursday Feb 29th: Three meetings per day at 12am\, 3am and 6:30am\nFriday
  March 1: Last meeting at 12am\n\nRegister here.\n\nThis retreat can be at
 tended in-person or online via Zoom.
ATTACH;FMTTYPE=image/jpeg:https://www.jaredfranks.com/wp-content/uploads/2
 024/02/2023Module3AU.jpg
CATEGORIES:Leela School,Retreat,Satsang,Self-Inquiry
LOCATION:Lennox Head Cultural Centre - CWA Hall\, 1 Mackney Lane\, Lennox H
 ead\, 2478\, NSW\, Australia
X-APPLE-STRUCTURED-LOCATION;VALUE=URI;X-ADDRESS=1 Mackney Lane\, Lennox Hea
 d\, 2478\, NSW\, Australia;X-APPLE-RADIUS=100;X-TITLE=Lennox Head Cultural
  Centre - CWA Hall:geo:0,0
END:VEVENT
BEGIN:VTIMEZONE
TZID:Australia/Sydney
X-LIC-LOCATION:Australia/Sydney
BEGIN:DAYLIGHT
DTSTART:20231001T030000
TZOFFSETFROM:+1000
TZOFFSETTO:+1100
TZNAME:AEDT
END:DAYLIGHT
END:VTIMEZONE
END:VCALENDAR