BEGIN:VCALENDAR
VERSION:2.0
PRODID:-//wp-events-plugin.com//7.2.3.1//EN
BEGIN:VEVENT
UID:8@jaredfranks.com
DTSTART;VALUE=DATE:20240320
DTEND;VALUE=DATE:20240329
DTSTAMP:20240208T012512Z
URL:https://www.jaredfranks.com/events/the-leela-depth-immersion-awaken-to
 -your-true-nature-retreat-eu-2024/
SUMMARY:The Leela Depth Immersion – Awaken to your True Nature Retreat EU
  2024
DESCRIPTION:The Leela Depth Immersion - Awaken to your True Nature\n\nWhat 
 do you really want? The Call of the Heart\n\nIn-Person &amp\; online Retre
 at/Course ~ 50 hours\n\nIn this retreat you will:\n\n 	Meet in Satsang wit
 h Eli Jaxon-Bear and receive his transmission and teaching of direct reali
 zation*\n 	Discover what it means to be a True Friend and embody this stan
 ce towards yourself and the world\n 	Discover your heart’s true desire a
 nd strengthen your resolve\n 	See how you betray it through habitual movem
 ents of the mind\n 	Uncover and resolve your traumatic wounds resourcefull
 y\n 	Receive loving\, healing and clarifying support to discover your true
  nature\n*Eli will not be physically present in Europe\, but will be comin
 g in live via Zoom\, for one meeting per day for the entire retreat. The r
 est of the retreat is led by Leela School Teachers\, Jared and Lisa.\n\nTh
 is is a stand-alone retreat\, or the first part of our full-year Leela Dep
 th Immersion Program.\n\nRegister here.\n\nCost: € 950 EUD ($1015 USD)\n
 If you would like to pay in Euros\, please contact leigh@leela.org\n*You m
 ust book and pay for the retreat here even if you have reserved a room at 
 the location*\n\nDates: March 20 – 28\, 2024\n\nThis retreat can be atte
 nded in-person or online via Zoom.\n\nTentative Schedule in EU (CET Time\,
  for in-person):\nWednesday March 20th: One Meeting at 8pm\nThursday March
  21st – Wednesday March 27th:\n(8am Breakfast)\; 10:30am – 12pm Meetin
 g 1\; (1pm Lunch)\; 3:30pm – 5pm Meeting 2\; (6pm Dinner)\; 8pm – 9:30
 pm Meeting 3\nThursday March 28th:\n(8am Breakfast)\; Last Meeting TBD but
  will end by 11am\n\nTentative Schedule in US Pacific Time (for online):\n
 Wednesday March 20th: One Meeting at 11am\nThursday March 21st – Wednesd
 ay March 27th:\n2:30am – 4am Meeting 1\; 7:30am – 9am Meeting 2\; 11am
  – 12:30pm Meeting 3\nThursday March 28th: TBD but will end by 3am\n\nLo
 cation (for in-person participants):\n\nAlong the Elbe River near Hamburg.
  Onsite accommodations are available. See below for details.\n\nDetails fo
 r In-Person Participants:\n\nThis retreat will be in Wewelsfleth\, in two 
 beautiful country houses along the Elbe near Hamburg.\n\nJared and Lisa wi
 ll attend in person. Eli will be with us online for one meeting per day.\n
 \nThe mansions can accommodate 32 people in 18 rooms ranging from basic to
  lavish\, with single rooms being in the minority.\n\nPrices per person pe
 r bed range from only €40 euros to €70 per day. This includes usage of
  the two big mansions\, including kitchen\, laundry machines\, big gardens
 \, sauna and fire place.\n\nThere will be an additional payment of €25 p
 er day for 3 vegetarian meals and for our fabulous cook.\n\nYou can also s
 tay with a camper or a tent for €25 per person and night.\n\nIf you part
 icipate and stay at another accommodation there is a fee of €8 per night
  for using the venue and facilities. You can find a bakery\, a farmer’s 
 store and a supermarket nearby where you can buy extra things.\n\nFor book
 ings and reservations of the accommodation please contact Monique Engelenb
 urg:\nmo.insideout@gmail.com.\n\nPayments for the room and meals/cook for 
 8 nights can be done via and after confirmation by Monique. This will comp
 lete your reservation. Payments are refundable until the end of 2023. Afte
 r that date payments are not refundable except when you or we find someone
  to replace you.
ATTACH;FMTTYPE=image/jpeg:https://www.jaredfranks.com/wp-content/uploads/2
 024/01/lisa_jared_eli_bench-scaled.jpg
CATEGORIES:Leela School,Retreat,Satsang,Self-Inquiry
LOCATION:Wewelsfleth\, Wewelsfleth\, Wewelsfleth\, Germany
X-APPLE-STRUCTURED-LOCATION;VALUE=URI;X-ADDRESS=Wewelsfleth\, Wewelsfleth\,
  Germany;X-APPLE-RADIUS=100;X-TITLE=Wewelsfleth:geo:0,0
END:VEVENT
END:VCALENDAR