BEGIN:VCALENDAR
VERSION:2.0
PRODID:-//wp-events-plugin.com//7.2.3.1//EN
BEGIN:VEVENT
UID:19@jaredfranks.com
DTSTART;VALUE=DATE:20240911
DTEND;VALUE=DATE:20240920
DTSTAMP:20240706T193238Z
URL:https://www.jaredfranks.com/events/the-leela-depth-immersion-eu-retrea
 t-2-2024/
SUMMARY:The Leela Depth Immersion EU – Retreat #2 2024 (details to come)
DESCRIPTION:The Leela Depth Immersion\n8-Day Awakening Retreat along the Ba
 ltic Sea in Germany\nSeptember 11 – 19\, 2024\n\nIn-Person &amp\; online
  Retreat/Course  ~ 50 hours\n\nRegister via the Leela School retreat page
  here.\n\nIn this retreat you will:\n\n 	Meet with Eli Jaxon-Bear and rece
 ive his transmission and teaching of direct realization*\n 	Discover what 
 it means to be a True Friend and embody this stance towards yourself and t
 he world\n 	Discover your heart’s true desire and strengthen your resolv
 e\n 	See how you betray it through habitual movements of the mind\n 	Uncov
 er and resolve your traumatic wounds resourcefully\n 	Receive loving\, hea
 ling and clarifying support to discover your true nature\n\n*Eli is join t
 he group via Zoom t for at least one meeting per day.  The rest of this r
 etreat is led by Leela School teachers Lisa Schumacher and Jared Franks.\n
 \nThis is a stand alone retreat\, or the first part of our full year Leel
 a Depth Immersion Program. \nNo pre-requisite is needed to attend. \n\nL
 ocation:\nElme &amp\; Horst\nDorfstrasse 59\n23948 Elmenhorst / Kalkhorst\
 nGermany\n\nTuition: $950 (USD)\nIf you prefer to pay in Euros please cont
 act Leigh@leela.org\n\nSchedule:\n\n\nWednesday 11th till Thursday 19th\, 
 2024\n\n11th: dinner 6pm and first meeting with Eli at 8pm CEST\n\n12th ti
 ll 18th: 10:30am-12:00pm\, 4:30-6:00pm and 8:30-10:00pm CEST\n\n19th: brea
 kfast 8am\, meeting 10-11 am CEST\, cleaning after before leaving.\n\nEach
  meeting will last around 90min\n\nLocation and Accommodations Details:\n\
 nElme and Horst in Elmenhorst/Kalkhorst:\nhttps://www.elmeundhorst.de\n\nT
 his place has found its way to us and is an oasis of silence. It is locate
 d in a beautiful area near the Baltic Sea beach\,  nestled in vastness an
 d tranquility\, dunes and fresh air to breathe. Perfect on balmy September
  days. The room rates range from 30€ per bed – 60€ per bed.\n\nThere
  are possibilities to rent bicycles to go in only 10 minutes to the Baltic
  Sea!\n\nThe beautiful and simple rooms are ideal for deepening and self i
 nquiry. You’ll always find a place to withdraw to.\n\nTo stay ONSITE:\n
 – a 50% non-refundable advance must be paid to reserve your room. Only r
 efundable if you find someone to replace yourself\n– To reserve your ro
 om and find out more information about specific rooms and pricing\, please
  contact Monique Engelenburg at mo.insideout@gmail.com\n– Bed linen and
  towels are an additional 15€ per person\n– There will be an additiona
 l payment of 25€ per day for 3 vegetarian meals per day by our fabulous 
 cook Fabian and all our helping hands\n– If you participate and stay at 
 another accommodation there is a fee of 8€ per night for using the venue
  and facilities\n– Payments for bed\, food and venue can be transferred 
 to the following bank account:\nJutta Lydia Barbara Gelzer\, IBAN: DE89 4
 306 0967 1215 4162 00\, BIC: GENODEM1GLS\, Subject: Retreat EU Sep. 2024
 \n– To register for retreat\, you can do so here or by emailing Leigh at
  leigh@leela.org\n\nArrival:\nAirplane:\nHamburg airport then by train vi
 a Lübeck or Schwerin to Grevesmühlen station.\nTrain: \nfrom the west v
 ia Lübeck\, from the east via Schwerin or Rostock to Grevesmühlen statio
 n. From there there are regular buses to Klütz and from here buses contin
 ue irregularly to Elmenhorst. There is also the possibility of a call bus 
 that picks up a group of people and brings them to Elmenhorst.\nCar:\nA 20
  Abf. Schönberg\, B 104 direction Lübeck\, junction Schönberg/ Dassow\,
  there turn right direction Grevesmühlen B 105\, immediately left to Kalk
 horst\, direction Brook\, continue through Warnkenhagen\, 400 m after leav
 ing the village Elme and Horst is on the right.\n\nCaution: There are two 
 Elmenhorst! Please pay attention to Elmenhorst/Kalkhorst!\n\nRegister via 
 the Leela School retreat page here.\n\n\nCancellation policy for the Retre
 at\nIf you need to cancel your registration\, please email us at info@lee
 la.org\nIf you cancel more than 30 days before the retreat begins  your f
 ull payment minus $50.00 will be refunded. After that no refunds are given
 .\n\n\n\n\nThis course is equal to 50 CEUs (Continuing Education Units) fo
 r students applying for advanced certification or certification renewals.\
 n\n
ATTACH;FMTTYPE=image/jpeg:https://www.jaredfranks.com/wp-content/uploads/2
 024/01/leelaschool-small.jpg
CATEGORIES:Europe,Leela School,Retreat,Satsang,Self-Inquiry
END:VEVENT
END:VCALENDAR